BEGIN:VCALENDAR
VERSION:2.0
PRODID:-//Dwór Skrzynki - ECPv6.8.1//NONSGML v1.0//EN
CALSCALE:GREGORIAN
METHOD:PUBLISH
X-ORIGINAL-URL:https://dworskrzynki.pl
X-WR-CALDESC:Wydarzenia dla Dwór Skrzynki
REFRESH-INTERVAL;VALUE=DURATION:PT1H
X-Robots-Tag:noindex
X-PUBLISHED-TTL:PT1H
BEGIN:VTIMEZONE
TZID:Europe/Warsaw
BEGIN:DAYLIGHT
TZOFFSETFROM:+0100
TZOFFSETTO:+0200
TZNAME:CEST
DTSTART:20240331T010000
END:DAYLIGHT
BEGIN:STANDARD
TZOFFSETFROM:+0200
TZOFFSETTO:+0100
TZNAME:CET
DTSTART:20241027T010000
END:STANDARD
BEGIN:DAYLIGHT
TZOFFSETFROM:+0100
TZOFFSETTO:+0200
TZNAME:CEST
DTSTART:20250330T010000
END:DAYLIGHT
BEGIN:STANDARD
TZOFFSETFROM:+0200
TZOFFSETTO:+0100
TZNAME:CET
DTSTART:20251026T010000
END:STANDARD
END:VTIMEZONE
BEGIN:VEVENT
DTSTART;TZID=Europe/Warsaw:20241130T190000
DTEND;TZID=Europe/Warsaw:20241201T040000
DTSTAMP:20260423T144732
CREATED:20241014T153302Z
LAST-MODIFIED:20241118T061913Z
UID:7243-1732993200-1733025600@dworskrzynki.pl
SUMMARY:Andrzejki w Dworze Skrzynki
DESCRIPTION:Dwór Skrzynki zaprasza na wyjątkowe Andrzejki. W sobotę\, 30 listopada br. o godz. 20.00 spotkajmy się przy specjalnie przygotowanym na ten wieczór menu: szef kuchni zaplanował wyśmienity bufet: kolację\, słodkości i platery na zimno. Do tańca grać będzie Duet Szóstek-Kühn! \nZabawa do 4 rano! Cena: 400 zł/para. \nZachęcamy do skorzystania również z dodatkowej oferty noclegu ze śniadaniem w cenie 200 zł/para (100 zł/os.). \nZarezerwuj już dziś: \ne-mail: kontakt@dworskrzynki.pl\, tel.:  + 48 533 123 174 \nDo zobaczenia w Skrzynkach! \n  \n 
URL:https://dworskrzynki.pl/wydarzenie/andrzejki-w-dworze-skrzynki/
ATTACH;FMTTYPE=image/jpeg:https://dworskrzynki.pl/wp-content/uploads/2024/10/Andrzejki-fb-i-strona.jpg
END:VEVENT
BEGIN:VEVENT
DTSTART;TZID=Europe/Warsaw:20241207T180000
DTEND;TZID=Europe/Warsaw:20241207T223000
DTSTAMP:20260423T144732
CREATED:20241026T091545Z
LAST-MODIFIED:20241104T081334Z
UID:7314-1733594400-1733610600@dworskrzynki.pl
SUMMARY:„Gitarą\, nożem i widelcem” w Dworze Skrzynki – edycja włoska.
DESCRIPTION:Gdy rok temu Łukasz Kuropaczewski kończąc z wielkim sukcesem francuski muzyczno-degustacyjny wieczór zaproponował gościom Dworu Skrzynki kolejne wyjątkowe wydarzenie\, tym razem w klimacie włoskim\,  wszyscy głośno pytali – kiedy ? \nJuż wiemy! Na kolejną odsłonę projektu „Gitarą\, nożem i widelcem” zapowiadaną przez pomysłodawców\, czyli Jana Babczyszyna – dyrektora Instytutu Skrzynki oraz Łukasza Kuropaczewskiego – wirtuoza gitary\,   zapraszamy 7 grudnia o godzinie 18:00. \nW części muzycznej wieczoru wystąpi trio: Łukasz Kuropaczewski – gitara\, Maciej Frąckiewicz – akordeon oraz Bartek Miler – perkusja. W programie znajdzie się przedpremierowo muzyka z najnowszej płyty pt. „Victoria”. Premiera planowana jest jeszcze w tym roku ! \nPo koncercie rozpocznie się kolacja w stylu włoskim i będzie to kolejna prezentacja twórczości Łukasza Kuropaczewskiego. Wirtuoz gitary jest bowiem niezwykle utalentowany nie tylko muzycznie\, ale także kulinarnie. Podobnie\, jak przed rokiem we współpracy z Kajetanem Świokłą – Szefem Kuchni Restauracji Dworu Skrzynki osobiście przygotuje autorską kolację z włoskim menu. Jej serwowanie jak zawsze ubarwi wspaniałymi kulinarnymi opowieściami i anegdotami ze swoich licznych podroży. \nCena biletu wynosi 350 zł od osoby.\nRezerwacja biletów (koncert plus kolacja)  e-mailowo na adres: kontakt@dworskrzynki.pl\nWłoskie muzyczne klimaty wybrzmią dzięki trzem wirtuozom. \nNa akordeonie zagra Maciej Frąckiewicz – zwycięzca jednego z najważniejszych konkursów akordeonowych na świecie – Certamen Internacional de Acordeón „Arrasate Hiria” w Hiszpanii (2012)\, a także laureat Paszportu Polityki „za bardzo dojrzałe i wyraziste interpretacje współczesnego repertuaru”. Artysta zdobył wiele nagród na licznych międzynarodowych konkursach akordeonowych w kraju i za granicą. Koncertuje na całym świecie występując jako solista\, a także z towarzyszeniem najbardziej renomowanych orkiestr symfonicznych. Maciej Frąckiewicz ma w swoim dorobku ponad 90 prawykonań – większość tych utworów była także jemu dedykowana. Jest absolwentem najlepszych uczelni muzycznych w Warszawie\, Barcelonie\, Essen i Detmold. Obecnie jest też pedagogiem i  pracuje ze studentami w Europie i Azji. \nNa perkusji zagra Bartek Miler. Rodowity Paryżanin\, dziś na dobre związał się z poznańskim środowiskiem artystycznym. Bierze udział w licznych koncertach\, festiwalach\, konkursach i przesłuchaniach jako solista\, kameralista i muzyk orkiestrowy. Prowadzi również warsztaty i masterclass’y w wyższych uczelniach muzycznych i szkołach muzycznych drugiego stopnia na terenie Polski. Bartłomiej Miler jest wszechstronnym artystą praktykującym różne style i obracającym się w kontrastowych dziedzinach muzyki. Jest multiinstrumentalistą\, który wykorzystuje swoje umiejętności gry na klarnecie\, klarnecie basowym\, fortepianie\, perkusji klasycznej i rozrywkowej w różnych eksperymentach i projektach muzycznych. W listopadzie 2016 roku zdobył nagrodę „Annelie” na największym konkursie perkusyjnym na świecie „TROMP International Percussion Competition Eindhoven” przyznaną przez zewnętrzną komisje „młodych” za najlepszą osobowość muzyczną konkursu. Grywa solo i w zespołach odnosząc sukcesy w wielu międzynarodowych konkursach. Obecnie współpracuje z Poznańską Filharmonią\, jest równocześnie asystentem klasy perkusji klasycznej w Akademii Muzycznej w Poznaniu \nI wreszcie bohater całego przedsięwzięcia – Łukasz Kuropaczewski – wybitny gitarzysta klasyczny występujący w największych salach koncertowych świata\, kulinarny globtroter\, a zarazem mieszkaniec powiatu poznańskiego. Jest absolwentem Akademii Muzycznej we Wrocławiu\, w 2008 roku ukończył studia w klasie Maestro Manuela Barrueco w Peabody Conservatory of the Johns Hopkins University w Baltimore(USA). Od tego czasu z ogromnymi sukcesami występuje na wszystkich kontynentach. Nagrał sześć płyt\, a ostatnia – „Adela”\, nagrana wraz z pianistą Aleksandrem Dębiczem i kontratenorem Jakubem Józefem Orlińskim (doskonale znanym z uroczystości otwarcia Igrzysk w Paryżu) była jedną z najlepiej sprzedających się płyt w Polsce. Teraz czas na „Victorię”\, a płyta co warto podkreślić wydana zostanie przez prestiżową wytwornię „Warner Music”. \nAch cóż to będzie za wieczór – wypełniony włoskim słońcem\, lazurem morza\, odgłosem kroków na krętych uliczkach biegnących stromo na plażę…albo klaksonem Vespy przedzierającej się przez rzymskie korki. No i zapach… rozmarynu\, bazylii\, pomidorów\, oliwy i esspresso… Po prostu perfetto! \n\nZapraszamy! \n 
URL:https://dworskrzynki.pl/wydarzenie/gitara-nozem-i-widelcem-w-dworze-skrzynki-edycja-wloska/
ATTACH;FMTTYPE=image/jpeg:https://dworskrzynki.pl/wp-content/uploads/2024/10/www-7.jpg
END:VEVENT
BEGIN:VEVENT
DTSTART;TZID=Europe/Warsaw:20241214T110000
DTEND;TZID=Europe/Warsaw:20241214T133000
DTSTAMP:20260423T144732
CREATED:20241115T135201Z
LAST-MODIFIED:20241115T135201Z
UID:7674-1734174000-1734183000@dworskrzynki.pl
SUMMARY:Świąteczne warsztaty rękodzielnicze "Świeczki i tabliczki z wosku pszczelego"
DESCRIPTION:Zapraszamy na Świąteczne warsztaty rękodzielnicze Świeczki i tabliczki z wosku pszczelego \nJeśli chcesz dowiedzieć się \n\nczym są produkty pszczele\,\njakie mają właściwości\njak je prawidłowo stosować\,\n\na także własnoręcznie wykonać piękne świąteczne prezenty: \n\nświeczkę z węzy pszczelej\ntabliczkę zapachową z wosku pszczelego\n\nZapraszamy 14 grudnia 2024 o godzinie 11:00 do Dworu Skrzynki \nW czasie półtoragodzinnych warsztatów  poznasz wiele ciekawostek na temat pszczół. \nPoprowadzi je pszczelarka Monika Ibron z Gospodarstwa Pasiecznego Miody Ibrona z Puszczykowa\, które jest członkiem Szlaku Kulinarnego „Smaki Powiatu Poznańskiego”. \n  \nKoszt 50 zł/osoba \nLiczba miejsc ograniczona\, obowiązują zapisy! \nZapisy kontakt@instytutskrzynki.pl
URL:https://dworskrzynki.pl/wydarzenie/swiateczne-warsztaty-rekodzielnicze-swieczki-i-tabliczki-z-wosku-pszczelego/
ATTACH;FMTTYPE=image/jpeg:https://dworskrzynki.pl/wp-content/uploads/2024/11/warsztaty-pszczelarskie.jpg
END:VEVENT
BEGIN:VEVENT
DTSTART;TZID=Europe/Warsaw:20241214T183000
DTEND;TZID=Europe/Warsaw:20241214T213000
DTSTAMP:20260423T144732
CREATED:20241122T140520Z
LAST-MODIFIED:20241122T140520Z
UID:7700-1734201000-1734211800@dworskrzynki.pl
SUMMARY:Przedświąteczna bossa nova i nie tylko – recital Pauli Krauze w Dworze Skrzynki.
DESCRIPTION:Gdy w sobotę 14 grudnia przedświąteczne przygotowania\, zakupowe i kulinarne „szaleństwa” zaczynają wchodzić w krytyczną fazę\, a wielu domowników szuka sposobu na wyrwanie się z domu\, Dwór Skrzynki zaprasza o godz.  18.30 na niezwykły wieczór i muzyczne spotkanie z Paulą Krauze. \nPaula\, choć jest Wielkopolanką\, ba …rodzinny dom ma w powiecie poznańskim\, od kilku lat na stałe mieszka w Rio de Janeiro. Już raz\, latem tego roku z ogromnym sukcesem gościła w Dworze Skrzynki\, a zachwycona publiczność pytała kiedy kolejny koncert. Paula niestety mieszka i pracuje na drugim końcu świata\, rzadko więc koncertuje w Polsce. Tym bardziej cieszymy się\, że właśnie nadarzyła się taka okazja\, bo Paula na krótko przed Świętami – niczym egzotyczny\, kolorowy ptak – sfrunęła na chwilę do Polski i zaśpiewa w Skrzynkach. Zaśpiewa\,  ale też z pewnością opowie o Bożym Narodzeniu w środku upalnego lata. \nCo robią Brazylijczycy na Boże Narodzenie?  Dlaczego najważniejsza jest Pasterka i indyk? Czy choinkę można zastąpić palmą?  Paula z pewnością odpowie na takie pytania\, a do tego zaśpiewa nie tylko bossa novy. Muzyka świąteczna w Brazylii różni się od naszej\, ale europejskie kolędy\, takie jak „Noite Feliz” (Cicha noc) są popularne\, a kolęda „Jesus Cristo” Roberto Carlosa jest klasycznym faworytem . Trzydzieści lat temu  w Brazylii zapoczątkowano lokalny trend popularności muzyki świątecznej \, a typową brazylijską piosenką w okresie świątecznym jest „Então é Natal”. \nPrzypomnijmy\, że Paula Krauze odebrała klasyczne wykształcenie muzyczne w klasie fortepianu Akademii Muzycznej w Poznaniu. Swoją edukację muzyczną rozpoczęła natomiast od gry na skrzypcach. Paula nieustannie poszukuje! Rozmaite gatunki muzyczne\, którymi się zajmuje dają jej nie tylko możliwość ekspresji\, ale pokazują też wiele odcieni jej twórczej wrażliwości. Sięga zarówno do Rachmaninova\, jak i do muzyki etnicznej przeróżnych kultur. W Polsce tworzyła duet z repertuarem samby i bossa novy.  Wraz z siostrą Sabiną występowała również w zespole „Baykuri”  z repertuarem piosenek greckich\, tureckich i bałkańskich. Studiowała także w szkole filmowej w Barcelonie. Od kilku lat jej życie mocno związało się z Brazylią. Kto był na czerwcowym koncercie Pauli\, ten wie jak potrafi czarować rytmem\, frazowaniem\, grą na gitarze… A kto nie widział – niech czym prędzej sprasza przyjaciół i poszuka chwili wytchnienia i brazylijskiego ciepła w środku zimy. \nBilety w cenie 35 zł do kupienia on-line.\nZapraszamy\, by przekonać się\, że czerwona czapka Św. Mikołaja pasuje też do stroju plażowego! \nWieczór zacznijmy jednak z półgodzinnym wyprzedzeniem\, ponieważ w trakcie koncertu serwis restauracji jest nieczynny.  Zachęcamy również do skorzystania z naszej oferty gastronomicznej po zakończeniu muzycznej części spotkania. \n  \n  \n 
URL:https://dworskrzynki.pl/wydarzenie/przedswiateczna-bossa-nova-i-nie-tylko-recital-pauli-krauze-w-dworze-skrzynki/
ATTACH;FMTTYPE=image/jpeg:https://dworskrzynki.pl/wp-content/uploads/2024/11/www-16.jpg
END:VEVENT
BEGIN:VEVENT
DTSTART;TZID=Europe/Warsaw:20241229T170000
DTEND;TZID=Europe/Warsaw:20241229T170000
DTSTAMP:20260423T144732
CREATED:20241129T101100Z
LAST-MODIFIED:20241129T112245Z
UID:7753-1735491600-1735491600@dworskrzynki.pl
SUMMARY:Najpiękniejsze kolędy i melodie na Boże Narodzenie – koncert Filharmoników Poznańskich
DESCRIPTION:Zgodnie z niepisaną tradycją  w ostatnich dniach mijającego roku Starosta Poznański Jan Grabkowski  i Dyrektor Filharmonii Poznańskiej Wojciech Nentwig zapraszają do Dworu Skrzynki na wyjątkowe wydarzenie\, podczas którego  wspólnie z bywalcami koncertów w Skrzynkach będą celebrować  muzycznie czas Świąt Bożego Narodzenia i Nowego Roku. \nW niedzielę  29 grudnia o godzinie 17:00 w Dworze Skrzynki wystąpi Brass Quintet Filharmonii Poznańskiej w koncercie pt. „Najpiękniejsze kolędy i melodie na Boże Narodzenie”. \nBrass Quintet Filharmonii Poznańskiej to jeden z zespołów kameralnych Orkiestry Filharmonii Poznańskiej. W jego skład wchodzą muzycy grający na instrumentach dętych blaszanych. Zespół wykonuje bardzo zróżnicowany repertuar – od klasyków baroku po klasyków współczesności. Nie stroni również od utworów z kręgów muzyki jazzowej i rozrywkowej. W zależności od programu występują w składzie kameralnym (jako Brass Quintet) lub zdecydowanie większym z obsadą big-bandu włącznie. \nW Dworze Skrzynki Brass Quintet wystąpi w składzie: \n\nMarek Galubiński\, Robert Morkis – trąbki\nMarcin Chrzanowski – waltornia\nWojciech Jeliński – puzon\nBartosz Sokołowski – tuba\n\nBędzie to prawdziwa muzyczna uczta dla miłośników instrumentów dętych i okazja\, by posłuchać jak np. brzmi Cicha noc grana przez tubę w asyście trąbki! W programie znajdą się znane i lubiane kolędy w opracowaniu Ewy Fabiańskiej-Jelińsiej\, a także utwory Piotra Czajkowskiego\, Franza Xavera Grubera i inne. \nWarto zarezerwować to niedzielne popołudnie i spędzić ten magiczny świąteczny czas właśnie w Skrzynkach. \nBilety w cenie 25 zł można kupić on-line. \nSpotkanie zacznijmy jednak z półgodzinnym wyprzedzeniem\, ponieważ w trakcie koncertu serwis restauracji jest nieczynny. \nZachęcamy również do skorzystania z naszej oferty gastronomicznej po zakończeniu muzycznej części spotkania. Nasza specjalna rozgrzewająca herbata przegania każde zimno\, a to dopiero początek zimowego menu przygotowanego przez szefa kuchni restauracji Dworu Skrzynki. \nZapraszamy!
URL:https://dworskrzynki.pl/wydarzenie/najpiekniejsze-koledy-i-melodie-na-boze-narodzenie-koncert-filharmonikow-poznanskich/
ATTACH;FMTTYPE=image/jpeg:https://dworskrzynki.pl/wp-content/uploads/2024/11/www-17.jpg
END:VEVENT
BEGIN:VEVENT
DTSTART;TZID=Europe/Warsaw:20241231T200000
DTEND;TZID=Europe/Warsaw:20250101T040000
DTSTAMP:20260423T144732
CREATED:20241104T090118Z
LAST-MODIFIED:20241104T125242Z
UID:7351-1735675200-1735704000@dworskrzynki.pl
SUMMARY:Sylwester w Dworze Skrzynki
DESCRIPTION:Dwór Skrzynki zaprasza na szampańską zabawę sylwestrową. Pożegnanie starego\, 2024 roku będzie wyjątkowe\, bo na Gości dworu czekają: \n\nzabawa z DJ-em od godz. 20.00 do 4.00 rano\ndrink powitalny\nelegancka serwowana kolacja 3-daniowa\nbufet zimnych przekąsek\nbufet kawowy z różnorodnymi słodkościami\nszampańskie powitanie nowego roku\nśniadanie na ciepło\n0\,5 l wódki lub 0\,75 l wina na parę\n\nA to wszystko w wyjątkowych wnętrzach klasycznej elegancji pięknie odrestaurowanego XIX-wiecznego zabytkowego dworu. \nZapraszamy do rezerwacji miejsc: kontakt@dworskrzynki.pl\, tel. 533 123 174 \nKoszt: 500 zł/osobę\, z noclegiem 600 zł/osobę. \n________________________________ \nDwór Skrzynki \nPl. Parkowy 1\, 62-060 Skrzynki\, gm. Stęszew \nwww.dworskrzynki.pl
URL:https://dworskrzynki.pl/wydarzenie/sylwester-w-dworze-skrzynki-2/
ATTACH;FMTTYPE=image/jpeg:https://dworskrzynki.pl/wp-content/uploads/2024/11/2-sylwester-2024-2025-facebook-i-strona-3.jpg
END:VEVENT
END:VCALENDAR