BEGIN:VCALENDAR
VERSION:2.0
PRODID:-//Dwór Skrzynki - ECPv6.8.1//NONSGML v1.0//EN
CALSCALE:GREGORIAN
METHOD:PUBLISH
X-ORIGINAL-URL:https://dworskrzynki.pl
X-WR-CALDESC:Wydarzenia dla Dwór Skrzynki
REFRESH-INTERVAL;VALUE=DURATION:PT1H
X-Robots-Tag:noindex
X-PUBLISHED-TTL:PT1H
BEGIN:VTIMEZONE
TZID:Europe/Warsaw
BEGIN:DAYLIGHT
TZOFFSETFROM:+0100
TZOFFSETTO:+0200
TZNAME:CEST
DTSTART:20240331T010000
END:DAYLIGHT
BEGIN:STANDARD
TZOFFSETFROM:+0200
TZOFFSETTO:+0100
TZNAME:CET
DTSTART:20241027T010000
END:STANDARD
END:VTIMEZONE
BEGIN:VEVENT
DTSTART;TZID=Europe/Warsaw:20241006T173000
DTEND;TZID=Europe/Warsaw:20241006T200000
DTSTAMP:20260425T140006
CREATED:20240930T134924Z
LAST-MODIFIED:20240930T134924Z
UID:7058-1728235800-1728244800@dworskrzynki.pl
SUMMARY:Weekend Seniora w Skrzynkach – Koncert „Jak za dawnych lat”.
DESCRIPTION:W niedzielę 6 października zapraszamy wszystkich Seniorów na godz. 17:30 do Dworu Skrzynki (gm. Stęszew\, pow. poznański)  na KONCERT „Jak za dawnych lat”\, w którym będzie można usłyszeć znane i lubiane piosenki. \nZaśpiewa znakomita wokalistka Marzena Scholz\, a towarzyszyć jej będzie na instrumentach klawiszowych Michał Szóstek. Wstęp na koncert jest wolny – prosimy jedynie o potwierdzenie obecności mailowo pod adresem kontakt@dworskrzynki.pl \nMarzena Scholz jest absolwentką Akademii Muzycznej w Poznaniu. Występowała i występuje z największymi artystami polskiej muzyki rozrywkowej: Hanną Banaszak\, Mieczysławem Szcześniakiemoraz  nieodżałowanymi Krzysztofem Krawczykiem i Wojciechem Kordą. Śpiewała z zespołem Bolter i Trubadurami. Nagrała też solowa płytę „Słowa\, gesty”. Bardzo ceni stare\, dobre kompozycje i piosenki przedwojennej Warszawy. Tak narodził się projekt koncertu „W starym kinie” \nMichał Szóstek – pianista\, instrumentalista klawiszowy zakochany w jazzie i dobrze znany wielbicielom muzyki synkopowanej. Już w latach 70-tych ubiegłego wieku grywał w różnych formacjach. Występował z Haliną Żytkowiak i Barbarą Łuczak i przez wiele lat akompaniował Hannie Banaszak. Grywał tez sporo zagranicą \, a jako Grupa Szóstka promował kompozycje Krzysztofa Komedy. Pracował tez z gwiazdami kabaretu – Jerzym Pietrzakiem i Krzysztofem Daukszewiczem. Wieloletnia współpraca z redaktorem muzycznym Krzysztofem Wodniczakiem w Jeżyckim Centrum Kultury zaowocowała realizacją festiwali i warsztatów Andrzeja Rybińskiego oraz Faridy. Jest też doskonale znany bywalcom Dworu Skrzynki z coniedzielnych mini recitali. \nBędzie zatem w Skrzynkach nastrojowo\, nieco jazzowo ale przede wszystkim wybrzmią doskonale znane piosenki. \nZapraszamy serdecznie! \nKoncert rozpoczyna się o 17:30\, ale ze względu na fakt\, że w trakcie koncertu serwis restauracji jest nieczynny\, prosimy o przybycie z co najmniej półgodzinnym wyprzedzeniem.  Zachęcamy również do skorzystania z naszej oferty gastronomicznej po zakończeniu muzycznej części wieczoru.
URL:https://dworskrzynki.pl/wydarzenie/weekend-seniora-w-skrzynkach-koncert-jak-za-dawnych-lat/
ATTACH;FMTTYPE=image/jpeg:https://dworskrzynki.pl/wp-content/uploads/2024/09/Koncert-na-www.jpg
END:VEVENT
BEGIN:VEVENT
DTSTART;TZID=Europe/Warsaw:20241011T190000
DTEND;TZID=Europe/Warsaw:20241011T210000
DTSTAMP:20260425T140006
CREATED:20240909T190048Z
LAST-MODIFIED:20240909T190108Z
UID:6759-1728673200-1728680400@dworskrzynki.pl
SUMMARY:
DESCRIPTION:Niektórzy twierdzą\, że wiolonczela to instrument dla najzdolniejszych muzyków – tych z najlepszym słuchem i z największą wrażliwością muzyczną. W dodatku jak na każdy instrument smyczkowy przystało\,  trudno się nauczyć na niej grać.  Ale jeśli wiolonczela odwzajemni miłość artysty – na słuchaczy spada cały deszcz emocji: wzruszeń\, gniewów\, strachów i… ekscytacji. Tak jak w czasie koncertów KOVY – czyli Agnieszki Kowalczyk. \nTę wspaniałą polską artystkę o ugruntowanej międzynarodowej renomie będzie można usłyszeć w Dworze Skrzynki 11 października. KONCERT „DANCING SOULS OF TREES” rozpocznie się o godzinie 19:00. \nPodczas październikowego koncertu\, który przypada w okolicach Światowego Dnia Drzewa usłyszymy zarówno utwory z najnowszego cyklu artystki zatytułowanego Dancing Souls of Trees/Tańczące Dusze Drzew\, jak również wcześniejsze kompozycje z cyklu Goddesses/Boginie\, które pojawiły się na płycie o tym samym tytule\, wydanej w marcu 2024r. \nAgnieszka KOVA Kowalczyk to klasycznie wykształcona wiolonczelistka. Koncertowała i nagrywała z wieloma artystami sceny jazzowej\, klasycznej\, rockowej\, jak i twórcami muzyki elektronicznej\, eksperymentalnej i improwizowanej. Grała między innymi z Nicole Mitchell\, Dee Alexander\, Lisą-Marie Holmes\, Stanem Breckenridg’em i artystami naszej rodzimej sceny\, między innymi z Kayah\, Sylwią Grzeszczak\, Kasią Groniec\, Zbigniewem Górnym\, Małgorzatą Ostrowską.  Od 2012 r. związana jest też z zespołem Raya Wilsona. Agnieszka koncertowała na wielu znakomitych festiwalach muzycznych takich jak: Tauron Nowa Muzyka\, Opener\, Nowy Wiek Awangardy\, No Women No Art. i innych.  Współtworzy szereg muzycznych projektów m.in. Cello2Cello oraz Lumiere Duo\, zespół Wieczornik\, Midnight Mystique\, Secret World Project czy GLAM Quartet\, ale także tworzy autorską muzykę m.in. do spektakli teatralnych (np. Teatr Ósmego Dnia\, Teatr CINEMA)\, widowisk multimedialnych\, filmów niemych oraz spotkań medytacyjnych. Artystka miała okazję występować w ponad 80 krajach całego świata m.in. w USA\, Kanadzie\, Nowej Zelandii\, Argentynie\, Chile\, Japonii\, Chinach\, Indiach\, Wietnamie\, Emiratach Arabskich\, RPA\, jak i w większości krajów europejskich. \nNa czym polega niezwykłość jej muzyki? Tworzy magiczną muzykę na wiolonczeli z loop station. Artystka podczas koncertów używa zarówno wiolonczeli akustycznej\, jak i elektrycznej łącząc swoją wirtuozerię z nowatorskimi technikami loopowania (czyli zapętlania nagrania) i kreowania barwy przy użyciu efektów dźwiękowych. KOVA tworzy sugestywną\, wielogłosową muzykę\, w której każda nuta jest pełna mocy\, a jej koncerty to swego rodzaju słowno-muzyczne opowieści nawiązujące np. do mitologii różnych kultur czy fascynacji naturą\, ze szczególnym wskazaniem na zamiłowanie artystki do drzew i „jakiejś nieodgadnionej siły\, która w nich drzemie”. \nZapraszamy zatem 11 października do Dworu Skrzynki. \nBilety w cenie 35 zł. do nabycia on – line\nKoncert rozpoczyna się o 19:00\, ale ze względu na fakt\, że w trakcie koncertu serwis restauracji jest nieczynny \, prosimy o przybycie z co najmniej półgodzinnym wyprzedzeniem.  Zachęcamy również do skorzystania z naszej oferty gastronomicznej po zakończeniu muzycznej części wieczoru.
URL:https://dworskrzynki.pl/wydarzenie/6759/
ATTACH;FMTTYPE=image/jpeg:https://dworskrzynki.pl/wp-content/uploads/2024/09/strona-www.jpg
END:VEVENT
BEGIN:VEVENT
DTSTART;TZID=Europe/Warsaw:20241011T190000
DTEND;TZID=Europe/Warsaw:20241011T210000
DTSTAMP:20260425T140006
CREATED:20240910T162057Z
LAST-MODIFIED:20240910T162057Z
UID:6773-1728673200-1728680400@dworskrzynki.pl
SUMMARY:KOVA  i magia wiolonczeli w Dworze Skrzynki
DESCRIPTION:Niektórzy twierdzą\, że wiolonczela to instrument dla najzdolniejszych muzyków – tych z najlepszym słuchem i z największą wrażliwością muzyczną. W dodatku jak na każdy instrument smyczkowy przystało\,  trudno się nauczyć na niej grać.  Ale jeśli wiolonczela odwzajemni miłość artysty – na słuchaczy spada cały deszcz emocji: wzruszeń\, gniewów\, strachów i… ekscytacji. Tak jak w czasie koncertów KOVY – czyli Agnieszki Kowalczyk.\n\n \n\nTę wspaniałą polską artystkę o ugruntowanej międzynarodowej renomie będzie można usłyszeć w Dworze Skrzynki 11 października. KONCERT „DANCING SOULS OF TREES” rozpocznie się  o godzinie 19:00.\n\n \n\nPodczas październikowego koncertu\, który przypada w okolicach Światowego Dnia Drzewa usłyszymy zarówno utwory z najnowszego cyklu artystki zatytułowanego Dancing Souls of Trees/Tańczące Dusze Drzew\, jak również wcześniejsze kompozycje z cyklu Goddesses/Boginie\, które pojawiły się na płycie o tym samym tytule\, wydanej w marcu 2024r.\n\n \n\nAgnieszka KOVA Kowalczyk to klasycznie wykształcona wiolonczelistka. Koncertowała i nagrywała z wieloma artystami sceny jazzowej\, klasycznej\, rockowej\, jak i twórcami muzyki elektronicznej\, eksperymentalnej i improwizowanej. Grała między innymi z Nicole Mitchell\, Dee Alexander\, Lisą-Marie Holmes\, Stanem Breckenridg’em i artystami naszej rodzimej sceny\, między innymi z Kayah\, Sylwią Grzeszczak\, Kasią Groniec\, Zbigniewem Górnym\, Małgorzatą Ostrowską.  Od 2012 r. związana jest też z zespołem Raya Wilsona. Agnieszka koncertowała na wielu znakomitych festiwalach muzycznych takich jak: Tauron Nowa Muzyka\, Opener\, Nowy Wiek Awangardy\, No Women No Art. i innych.  Współtworzy szereg muzycznych projektów m.in. Cello2Cello oraz Lumiere Duo\, zespół Wieczornik\, Midnight Mystique\, Secret World Project czy GLAM Quartet\, ale także tworzy autorską muzykę m.in. do spektakli teatralnych (np. Teatr Ósmego Dnia\, Teatr CINEMA)\, widowisk multimedialnych\, filmów niemych oraz spotkań medytacyjnych. Artystka miała okazję występować w ponad 80 krajach całego świata m.in. w USA\, Kanadzie\, Nowej Zelandii\, Argentynie\, Chile\, Japonii\, Chinach\, Indiach\, Wietnamie\, Emiratach Arabskich\, RPA\, jak i w większości krajów europejskich.\n\n \n\nNa czym polega niezwykłość jej muzyki? Tworzy magiczną muzykę na wiolonczeli z loop station. Artystka podczas koncertów używa zarówno wiolonczeli akustycznej\, jak i elektrycznej łącząc swoją wirtuozerię z nowatorskimi technikami loopowania (czyli zapętlania nagrania) i kreowania barwy przy użyciu efektów dźwiękowych. KOVA tworzy sugestywną\, wielogłosową muzykę\, w której każda nuta jest pełna mocy\, a jej koncerty to swego rodzaju słowno-muzyczne opowieści nawiązujące np. do mitologii różnych kultur czy fascynacji naturą\, ze szczególnym wskazaniem na zamiłowanie artystki do drzew i „jakiejś nieodgadnionej siły\, która w nich drzemie”.\n\n \n\nZapraszamy zatem 11 października do Dworu Skrzynki.\n\n \nBilety w cenie 35 zł do nabycia on –line \n \n\nKoncert rozpoczyna się o 19:00\, ale ze względu na fakt\, że w trakcie koncertu serwis restauracji jest nieczynny \, prosimy o przybycie z co najmniej półgodzinnym wyprzedzeniem.  Zachęcamy również do skorzystania z naszej oferty gastronomicznej po zakończeniu muzycznej części wieczoru.\n\n \n\n 
URL:https://dworskrzynki.pl/wydarzenie/kova-i-magia-wiolonczeli-w-dworze-skrzynki/
ATTACH;FMTTYPE=image/jpeg:https://dworskrzynki.pl/wp-content/uploads/2024/09/strona-www.jpg
END:VEVENT
BEGIN:VEVENT
DTSTART;TZID=Europe/Warsaw:20241013T160000
DTEND;TZID=Europe/Warsaw:20241013T180000
DTSTAMP:20260425T140006
CREATED:20241003T112405Z
LAST-MODIFIED:20250108T114741Z
UID:7117-1728835200-1728842400@dworskrzynki.pl
SUMMARY:SPIRITO della TOSCANA czyli Duch Toskanii. Wernisaż wystawy prof. dr hab. Katarzyny K. Jeziorkowskiej
DESCRIPTION:Zapraszamy w niedzielę\, 13 października 2024 r.\, godz. 16.00 na wernisaż w Dworze Skrzynki: SPIRITO della TOSCANA czyli Duch Toskanii – wystawa zdjęć prof. Katarzyny K. Jeziorkowskiej to wolny wybór z kilkutysięcznego zbioru fotografii powstałych w trakcie pobytu we Florencji\, w Wenecji\, Siennie\, Arezzo\, San Gimignano\,  Pienzie… w Toskani. \n  \nTo niewielki wybór z wielkich osiągnięć dawnych mistrzów\, z gry stuleci zanurzonych wśród form\, świateł i cieni\, barw i faktur\, które poddają się chwilowemu zamknięciu w kadrach\, pozostając śladem twórczej potęgi przeżyć\, znaków i znaczeń\, interpretacji\, myśli\, wrażliwości\, kunsztu\, wyobraźni\, studiów i odkrywczych osiągnięć\, a nadto niebywałych zdolności zapisu w rozwiązaniach twórczych technicznie\, artystycznie\, formalnie i funkcjonalnie\, zamkniętych w trwałej materii ujarzmionej wielką wolą kreacji budzącej zachwyt\, skrywającej tajemnice\, trwającej od wieków… dla wieków… – opowiada prof. Katarzyna K. Jeziorkowska. \n  \nAutorka wystawy jest profesorem w Uniwersytecie Artystycznym im. Magdaleny Abakanowicz w Poznaniu na Wydziale Architektury i Wzornictwa w Katedrze Architektury i Urbanistyki. Prowadzi autorską Pracownię Elementów Projektowania Architektonicznego. Zajmuje się zawodowo projektowaniem trwałych elementów architektury zabytkowej\, rewitalizacją obiektów zabytkowych\, architekturą wnętrz\, grafiką\, fotografią\, modelami\, rysunkiem\, wystawiennictwem i projektowaniem wielofunkcyjnych systemów przestrzennych. Potencjał twórczy – projektowy i realizacyjny wywodzi z rodziny absolwentów dawnej PWSSP; z twórczego domu kreacji novum w projektowaniu i sztuki penetrującej obszary najdawniejszych technik szlachetnych\, ich narzędzi i warsztatu. \n  \nWystawa dostępna będzie od 13 października do 10 listopada 2024 r. Wstęp wolny. \n  \n  \nSPIRITO della TOSCANA czyli Duch Toskanii. Wernisaż wystawy prof. Katarzyny K. Jeziorkowskiej \n13 października 2024 r.\, godz. 16.00\, wstęp wolny \n  \nDwór Skrzynki \nPl.Parkowy 1 \n62-060 Skrzynki \nStęszew\, powiat poznański
URL:https://dworskrzynki.pl/wydarzenie/spirito-della-toscana-czyli-duch-toskanii-wernisaz-wystawy-prof-dr-hab-katarzyny-k-jeziorkowskiej/
ATTACH;FMTTYPE=image/jpeg:https://dworskrzynki.pl/wp-content/uploads/2024/10/wystawa-fb-i-strona-1.jpg
END:VEVENT
BEGIN:VEVENT
DTSTART;TZID=Europe/Warsaw:20241019T093000
DTEND;TZID=Europe/Warsaw:20241019T130000
DTSTAMP:20260425T140006
CREATED:20240913T082248Z
LAST-MODIFIED:20240913T082248Z
UID:6822-1729330200-1729342800@dworskrzynki.pl
SUMMARY:Warsztaty ARTE dla pań w Dworze Skrzynki.
DESCRIPTION:To świetna wiadomość dla wszystkich pań\, które chcą swoje emocje przełożyć na język sztuki.  Od października Instytut Skrzynki ponownie zaprasza na cykl warsztatów autoterapeutycznych prowadzonych przez Martę Szostak. \nPrzypomnijmy\, ze jesienią 2023 roku przeprowadziła na dwa cykle warsztatów w Skrzynkach\,  skierowanych  do przedstawicielek sektora NGO oraz Kół Gospodyń Wiejskich. \nRozpoczynające się  zajęcia odbywać się będą w Sali Galerii Skrzynki w przyziemiu obiektu.. \n\nKażda sesja potrwa 3 godziny: od 9:45 do  12:45\nGrupy liczyć będą maksymalnie 12 osób\, czyli decyduje kolejność zgłoszeń.\nOdpłatność:  50 zł od osoby za każde z zajęć. \nWiek: od 13 do 83 lat\, czyli w praktyce nie ma znaczenia – liczą się przede wszystkim chęci!\n\nZgłoszenia prosimy kierować poprzez stronę: www.dworskrzynki.pl lub na adres: kontakt@instytutskrzynki.pl \nA kim jest Marta Szostak  prowadzącą warsztaty? \nJest  absolwentką arteterapii na Uniwersytecie Medycznym im. Karola Marcinkowskiego oraz muzykologii\, kulturoznawstwa i studiów z zakresu rozwoju publiczności na Uniwersytecie im. Adama Mickiewicza. Stale współpracuje z poznańskimi NGOsami\, w tym Fundacją Odzyskani oraz Fundacją im. Julii Woykowskiej\, w których prowadzi warsztaty arteterapeutyczne przeznaczone głównie (choć nie jedynie) dla młodzieży i tzw. młodych dorosłych. W poznańskiej Scenie Roboczej – Społecznym Miejscu Kultury zaprojektowała i przeprowadziła pilotażowe warsztaty towarzyszące premierze jednego ze spektakli. Regularnie współtworzy działania edukacyjne organizowane przez Teatr Muzyczny w Łodzi. Arteterapia to dla niej podróż przez sztukę w głąb siebie; to szansa na usłyszenie swojego głosu oraz zaobserwowanie i nazwanie emocji\, to przestrzeń do rozwoju i czas na refleksję\, którą wspiera swobodne twórcze działanie. To proces\, w którym sztuka jest towarzyszem\, a człowiek – celem. \nW tym sezonie zaplanowane są następujące warsztaty: \n\n19 PAŹDZIERNIKA : Wirtuozki balansu. O równowadze. / instalacja plastyczna\n\nWykorzystując różnorodne materiały plastyczne – włóczki\, muliny\, materiały papiernicze\, plastelinę\, elementy drewniane i metalowe\, uczestniczki i uczestnicy będą mieli za zadanie stworzyć rzeźbę przedstawiającą postać Równowagi. Towarzysząca działaniu rozmowa pozwoli podzielić się przemyśleniami na temat poszukiwaniu balansu i znaczeniu równowagi w życiu osobistym i zawodowym. \n\n23 LISTOPADA : W poszukiwaniu Muzy. O inspiracji. / obraz\n\nWielkoformatowy obraz namalowany bez użycia pędzli – w taki sposób odbywać się będzie spotkanie poświęcone inspiracji. W czym ją znajduję? Co sprawia\, że czuję\, że mogę tworzyć? Co napędza mnie do działania i dlaczego akurat to? Kontaktując się ze swoim wewnętrznym dzieckiem poprzez wykorzystywanie dłoni do bezpośredniego kontaktu z farbami\, uczestniczki i uczestnicy namalują swoją wizję inspiracji. \n\n18 STYCZNIA : Czas na debiut. O strachu. / improwizacja teatralna\n\nKiedy się boję? Czy do strachu trzeba się „przyznawać”? Jak wygląda mój strach\, jaką ma twarz\, budowę\, kolor\, tembr głosu? Wykorzystując techniki zaczerpnięte z improwizacji teatralnej\, uczestniczki i uczestnicy będą mieli za zadanie wystawić monodram i odbyć dialog poświęcony tematom\, które uznawane mogą zostać za źródło lęku. \n\n22 LUTEGO: Venus\, Frida\, Jagna. O kobiecości. / rzeźba\n\nUczestniczki\, mając do dyspozycji masę termoutwardzalną\, dostaną za zadanie stworzenie rzeźby odzwierciedlającej ich definicję kobiecości. Czy przekonania\, które mam na jej temat\, w istocie są moje? Co budzi mój sprzeciw\, a w czym widzę to\, jaka jestem naprawdę? Czy kobiecość to brzemię? \n\n22 MARCA : W świetle reflektorów. O wrażliwości. / grafika\n\nWrażliwość – od wstydu do dumy. Rozmawiając o miękkim podbrzuszu każdego z nas\, twórcze działanie poświęcone będzie nadaniu kształtu wrażliwości poprzez stworzenie ilustracji za pomocą pędzla i tuszu. Jakie znaczenie mają namalowane symbole? Co się za nimi kryje? Czy moja wrażliwość jest moim zasobem czy raczej ciężarem? Jak poradzić sobie z ilością bodźców\, którymi każdego dnia jesteśmy atakowani? \n  \n 
URL:https://dworskrzynki.pl/wydarzenie/warsztaty-arte-dla-pan-w-dworze-skrzynki/
ATTACH;FMTTYPE=image/jpeg:https://dworskrzynki.pl/wp-content/uploads/2024/09/arte-19-10-2024-facebook-i-strona.jpg
END:VEVENT
BEGIN:VEVENT
DTSTART;TZID=Europe/Warsaw:20241019T100000
DTEND;TZID=Europe/Warsaw:20241019T140000
DTSTAMP:20260425T140006
CREATED:20241001T064937Z
LAST-MODIFIED:20241001T064937Z
UID:7066-1729332000-1729346400@dworskrzynki.pl
SUMMARY:Warsztaty grzyboznawcze
DESCRIPTION:Zapraszamy na cykl Warsztatów Grzyboznawczych\, które w Dworze Skrzynki poprowadzi Iza Urbanowicz – grzyboznawca\, niestrudzona edukatorka wiedzy mykologicznej i autorka wielu publikacji popularyzujących grzyby. Od lat pisze o grzybach\, tworzy ich profile w mediach społecznościowych\, tropi i fotografuje. Po prostu dokumentuje życie Fungi\, czyli grzybów – trzeciego po Faunie i Florze królestwa. Udowadnia przede wszystkim\, że grzyby jadalne to nie tylko borowik szlachetny i koźlarz babka. Więcej informacji na profilu: https://www.facebook.com/TrzecieKrolestwo \nWARSZTATY „GRZYBY W KUCHNI” \nZachęcamy do zapisów na dwa tegoroczne terminy: \n19.10.2024 – sobota\, godzina 10.00 – 14.00 \n9.11.2024 – sobota\, godzina 10.00 – 14.00 \nW programie spotkań między innymi: \n\nGrzyby\, czyli z czym to się je?\n\nO tym\, jak żyją grzyby i gdzie ich szukać\, jakie mają wartości odżywcze i do czego się nadają.\n\n\nJak rozpoznawać gatunki?\n\nPraca z owocnikami różnych gatunków i atlasami\n\n\nKtóre są dobre\, a które omijać?\n\nWażne cechy popularnych gatunków dzikich grzybów\, rozpoznawanie świeżości i jakości owocników\nSposoby na grzyby  –   jak dobierać gatunki do sposobów przetwarzania:\n\nKiszenie\nSuszenie\nMarynowanie\nGotowanie\nSmażenie\nDegustacja\n\n\n\n\n\nKoszt 120 zł/ osoba \nw cenie między innymi: grzyby\, przyprawy\, rękawiczki\, serwetki\, naczynia\, sprzęt do gotowania i in. \nZgłoszenia prosimy kierować poprzez stronę: www.dworskrzynki.pl lub na adres: kontakt@instytutskrzynki.pl \nGRZYBOBRANIE z Trzecim Królestwem \nMożna się też wybrać się do lasu z Izą Urbanowicz – prawdziwą\, dyplomowana przewodniczką po Trzecim Królestwie! \nW dniu 20 października  od 9.00 – 15.00 odbędzie się grzybobranie i spacer mykologiczny do tajemniczego miejsca w wielkopolskim lesie. Zbiory sprawdzone zostaną przez Izę Urbanowicz – specjalistę grzyboznawcę.  Na koniec w chacie grillowej Dworu Skrzynki odbędzie ognisko i wspólna biesiada Tu wybierzemy króla grzybobrania i pokażemy najciekawsze okazy. \nIza Urbanowicz – grzyboznawca\, fanka grzybów dokumentująca życie Fungi\, czyli grzybów – trzeciego po Faunie i Florze królestwa. Twórczyni profili\, tekstów\, filmów i fotografii o tematyce mykologicznej. Dziennikarka i autorka wielu publikacji popularyzujących grzyby. Edukatorka z misją rozpowszechniania wiedzy o Trzecim Królestwie. Więcej informacji na profilu: https://www.facebook.com/TrzecieKrolestwo \nMiejsce grzybobrania w dniu 20 października wskażemy po zgłoszeniu. Dojazd do lasu i do Dworu Skrzynki (gmina Stęszew\, pow. poznański) we własnym zakresie. \nKoszt 50 zł/ osoba \nDzieci do lat 10 – 25zł/osoba \nZgłoszenia prosimy kierować poprzez stronę: www.dworskrzynki.pl lub na adres: kontakt@instytutskrzynki.pl \nLiczba miejsc ograniczona – decyduje kolejność zgłoszenia. \nSerdecznie zapraszamy.
URL:https://dworskrzynki.pl/wydarzenie/warsztaty-grzyboznawcze/
ATTACH;FMTTYPE=image/jpeg:https://dworskrzynki.pl/wp-content/uploads/2024/10/warsztaty-grzyby-2-1.jpg
END:VEVENT
END:VCALENDAR