BEGIN:VCALENDAR
VERSION:2.0
PRODID:-//Dwór Skrzynki - ECPv6.8.1//NONSGML v1.0//EN
CALSCALE:GREGORIAN
METHOD:PUBLISH
X-WR-CALNAME:Dwór Skrzynki
X-ORIGINAL-URL:https://dworskrzynki.pl
X-WR-CALDESC:Wydarzenia dla Dwór Skrzynki
REFRESH-INTERVAL;VALUE=DURATION:PT1H
X-Robots-Tag:noindex
X-PUBLISHED-TTL:PT1H
BEGIN:VTIMEZONE
TZID:Europe/Warsaw
BEGIN:DAYLIGHT
TZOFFSETFROM:+0100
TZOFFSETTO:+0200
TZNAME:CEST
DTSTART:20260329T010000
END:DAYLIGHT
BEGIN:STANDARD
TZOFFSETFROM:+0200
TZOFFSETTO:+0100
TZNAME:CET
DTSTART:20261025T010000
END:STANDARD
END:VTIMEZONE
BEGIN:VEVENT
DTSTART;TZID=Europe/Warsaw:20260328T094500
DTEND;TZID=Europe/Warsaw:20260328T123000
DTSTAMP:20260420T124632
CREATED:20260209T072910Z
LAST-MODIFIED:20260209T073247Z
UID:12746-1774691100-1774701000@dworskrzynki.pl
SUMMARY:Skóra świata. O kobiecości. | rzeźba i mixmedia – ARTEterapeutyczne warsztaty dla kobiet
DESCRIPTION:MARZEC | Skóra świata. O kobiecości. | rzeźba i mixmedia – ARTEterapeutyczne warsztaty dla kobiet \nPracując z masą plastyczną i materiałami o różnych fakturach\, uczestniczki warsztatów stworzą formę inspirowaną ciałem jako miejscem doświadczania świata. Czym jest dla mnie kobiecość dziś\, jeśli spojrzę na nią przez pryzmat doświadczeń\, potrzeb\, tęsknot\, a nie określonego w kanonie ciała? Co noszę na sobie jak drugą skórę\, a co jest moje naprawdę? Spotkanie stanie się zaproszeniem do odzyskiwania kobiecości poprzez zmysły i własne odczucia\, bez ocen i porównań. \nZapraszamy w sobotę\, 28 marca 2026 r. na warsztaty arteterapeutyczne dla kobiet pn. Skóra świata. O kobiecości. | rzeźba i mixmedia. Spotkanie w Dworze Skrzynki tradycyjnie już poprowadzi Marta Szostak. \nSesja trwa od godz. 9:45 do 12:30: \n\nGrupa liczyć będzie maksymalnie 12 osób\, czyli decyduje kolejność zgłoszeń.\nOdpłatność: 50 zł od osoby\nWiek: od 13 do 83 lat\, czyli w praktyce nie ma znaczenia – liczą się przede wszystkim chęci!\n\nZgłoszenia prosimy kierować poprzez stronę: www.dworskrzynki.pl lub na adres: warsztaty@instytutskrzynki.pl. \nKim jest Marta Szostak\, prowadząca warsztaty? \nJest absolwentką arteterapii na Uniwersytecie Medycznym im. Karola Marcinkowskiego oraz muzykologii\, kulturoznawstwa i studiów z zakresu rozwoju publiczności na Uniwersytecie im. Adama Mickiewicza. Stale współpracuje z poznańskimi NGO-sami\, w tym Fundacją Odzyskani oraz Fundacją im. Julii Woykowskiej\, w których prowadzi warsztaty arteterapeutyczne przeznaczone głównie (choć nie jedynie) dla młodzieży i tzw. młodych dorosłych. W poznańskiej Scenie Roboczej – Społecznym Miejscu Kultury zaprojektowała i przeprowadziła pilotażowe warsztaty towarzyszące premierze jednego ze spektakli. Regularnie współtworzy działania edukacyjne organizowane przez Teatr Muzyczny w Łodzi. Arteterapia to dla niej podróż przez sztukę w głąb siebie; to szansa na usłyszenie swojego głosu oraz zaobserwowanie i nazwanie emocji\, to przestrzeń do rozwoju i czas na refleksję\, którą wspiera swobodne twórcze działanie. To proces\, w którym sztuka jest towarzyszem\, a człowiek – celem. \nSerdecznie zapraszamy! \nSkóra świata. O kobiecości. | rzeźba i mixmedia – ARTEterapeutyczne warsztaty dla kobiet \n28.03.2026 r. g. 9.45 \nDwór Skrzynki\, pl. Parkowy 1\, 62-060 Skrzynki\, gm. Stęszew \nwww.dworskrzynki.pl
URL:https://dworskrzynki.pl/wydarzenie/skora-swiata-o-kobiecosci-rzezba-i-mixmedia-arteterapeutyczne-warsztaty-dla-kobiet/
ATTACH;FMTTYPE=image/jpeg:https://dworskrzynki.pl/wp-content/uploads/2026/02/arte-marzec-2026-FB-i-strona.jpg
END:VEVENT
BEGIN:VEVENT
DTSTART;TZID=Europe/Warsaw:20260328T183000
DTEND;TZID=Europe/Warsaw:20260328T210000
DTSTAMP:20260420T124632
CREATED:20260317T101606Z
LAST-MODIFIED:20260317T101606Z
UID:13052-1774722600-1774731600@dworskrzynki.pl
SUMMARY:Koncert „Na strunach duszy” | Michał Zator
DESCRIPTION:Chcecie na chwilę przenieść się w czasie i usłyszeć czegoś naprawdę niezwykłego?\n\n \n\nZapraszamy 28 marca o godz. 18:30 do Dworu Skrzynki na wyjątkowy koncert harfowy:\n\n \n\nMichał Zator – „Na strunach duszy”\n\n \n\nHarfa to jeden z najstarszych instrumentów świata – znana już Sumerom\, starożytnym Egipcjanom i Grekom. Mimo swojej wielowiekowej historii wciąż pozostaje instrumentem nieco tajemniczym i rzadko spotykanym na koncertowych scenach. Szczególne miejsce zajmuje harfa celtycka\, która stała się muzycznym symbolem Irlandii i od wieków zachwyca subtelnym\, niezwykle przestrzennym brzmieniem. Spotkanie z jej dźwiękiem na żywo to prawdziwa rzadkość\, a w połączeniu ze śpiewem tworzy niezwykłą\, niemal magiczną atmosferę.\n\n \n\nPo ubiegłorocznym koncercie\, który spotkał się z bardzo ciepłym przyjęciem publiczności\, Michał Zator ponownie wystąpi w Dworze Skrzynki.\n\n \n\nArtysta jest jednym z nielicznych harfistów w Polsce\, którzy łączą grę na harfie z rozbudowaną improwizacją i śpiewem. Absolwent Akademii Muzycznej w Poznaniu (dyplom z wyróżnieniem)\, stypendysta Ministra Kultury oraz Marszałka Województwa Wielkopolskiego\, półfinalista programu „Mam Talent”. Współpracował z wieloma instytucjami muzycznymi\, w tym z polskimi filharmoniami\, a obecnie współtworzy duet z Natalią Niemen.\n\n \n\nPodczas koncertu w Skrzynkach usłyszymy znane kompozycje polskiej i zagranicznej muzyki – od utworów klasycznych\, przez muzykę filmową i popową\, aż po rock – w autorskich aranżacjach na harfę i głos.\n\n \n\nBilety w cenie 50 zł dostępne są online.\n\n \n\nSpotkanie rozpoczniemy tradycyjnie z półgodzinnym wyprzedzeniem – w trakcie koncertu serwis restauracji jest nieczynny. Zapraszamy do skorzystania z oferty gastronomicznej restauracji Dworu Skrzynki po koncercie.\n\n \n\nZapraszamy!\n\n \n\nPartnerem wydarzeń artystycznych w Dworze Skrzynki jest PKS Poznań S.A.
URL:https://dworskrzynki.pl/wydarzenie/koncert-na-strunach-duszy-michal-zator/
ATTACH;FMTTYPE=image/jpeg:https://dworskrzynki.pl/wp-content/uploads/2026/03/koncert-Michal-Zator-21.03.26-fb-i-strona.jpg
END:VEVENT
END:VCALENDAR