BEGIN:VCALENDAR
VERSION:2.0
PRODID:-//Dwór Skrzynki - ECPv6.8.1//NONSGML v1.0//EN
CALSCALE:GREGORIAN
METHOD:PUBLISH
X-WR-CALNAME:Dwór Skrzynki
X-ORIGINAL-URL:https://dworskrzynki.pl
X-WR-CALDESC:Wydarzenia dla Dwór Skrzynki
REFRESH-INTERVAL;VALUE=DURATION:PT1H
X-Robots-Tag:noindex
X-PUBLISHED-TTL:PT1H
BEGIN:VTIMEZONE
TZID:Europe/Warsaw
BEGIN:DAYLIGHT
TZOFFSETFROM:+0100
TZOFFSETTO:+0200
TZNAME:CEST
DTSTART:20260329T010000
END:DAYLIGHT
BEGIN:STANDARD
TZOFFSETFROM:+0200
TZOFFSETTO:+0100
TZNAME:CET
DTSTART:20261025T010000
END:STANDARD
END:VTIMEZONE
BEGIN:VEVENT
DTSTART;VALUE=DATE:20260321
DTEND;VALUE=DATE:20260323
DTSTAMP:20260422T123404
CREATED:20260312T165910Z
LAST-MODIFIED:20260313T091835Z
UID:12995-1774051200-1774223999@dworskrzynki.pl
SUMMARY:Nalewkomania powraca: twórcy nalewek znów spotkają się w Dworze Skrzynki
DESCRIPTION:Szanowni Państwo\,  \nDrodzy Twórcy i Pasjonaci Nalewek\, \nTradycja zamykania smaków natury w szkle to jedna z najpiękniejszych i najbardziej unikalnych wizytówek polskiej kultury. Państwa kunszt\, cierpliwość i przekazywane z pokolenia na pokolenie receptury sprawiają\, że polskie nalewki to coś więcej niż trunek – to żywa opowieść o naszej historii i tożsamości. \nMamy zaszczyt zaprosić Państwa do udziału w II Ogólnopolskim Forum Nalewkowym „Nalewkomania 2026”\, które odbędzie się w dniach 21–22 marca w gościnnych progach Dworu Skrzynki. \nDlaczego to spotkanie jest wyjątkowe? \nGłównym celem tegorocznej edycji są oficjalne konsultacje społeczne dotyczące wpisu „Tradycji nalewkarskich w Polsce” na Krajową listę niematerialnego dziedzictwa kulturowego. \nDlaczego Państwa obecność jest kluczowa? \n\nGłos środowiska: To Państwo są depozytariuszami tej tradycji. Wasz głos i opinia są niezbędne\, aby wniosek rzetelnie oddawał ducha polskiego nalewkarstwa. Państwa obecność\, doświadczenie i zgoda są niezbędne\, aby ten proces zakończył się sukcesem.\n\n\nWspólny cel: Oficjalne uznanie nalewek za dziedzictwo kulturowe to szansa na lepszą ochronę naszych tradycji i ich promocję na arenie międzynarodowej.\nIntegracja: To rzadka okazja\, by w gronie najlepszych twórców z całego kraju porozmawiać o przyszłości naszej profesji i pasji.\n\nW programie Forum przewidzieliśmy m.in.: \n\nPanele tematyczne NID: Spotkanie z koordynatorami Narodowego Instytutu Dziedzictwa na temat ochrony tradycji i dziedzictwa niematerialnego.\nOtwarte wykłady ekspertów\n\nTu szczególnie polecamy: \n21.03.2026 godz. 16.30 – 18.00 \nprof. Jarosław Dumanowski (UMK Toruń) \nWSZYSTKO SMAKIEM POZNASZ \nU źródeł polskich tradycji nalewkarskiech. \nAndrzej Fiedoruk (Białystok) \nNALEWKI ZZA KULIS \nJak pisać o nalewkach i ich twórcach. \nAdam Łukawski (Płock) \nETYKIETA ZOBOWIĄZUJE \nO szlachetnej kolekcji artefaktów wokół nalewkowych i nie tylko … \n\nWieczór integracji: Czas na wymianę doświadczeń i kuluarowe rozmowy w gronie twórców z całej Polski (także na tematy trudne dla naszego środowiska).\nPrzyszłość: Prezentacja założeń przyszłych  działań i wydarzeń w obszarze tradycji nalewkarskich w Polsce.\n\nInformacje organizacyjne: \n\nRezerwacje: Prosimy o zgłoszenia rezerwacyjne na adres kontakt@instytutskrzynki.pl\nLokalizacja: Dwór Skrzynki\, Pl. Parkowy 1\, 62-060 Skrzynki (gm. Stęszew).\nLiczba miejsc: Ze względu na ograniczoną bazę noclegową\, o rezerwacji decyduje kolejność zgłoszeń.\n\nWierzymy\, że wspólnie zdołamy nadać polskiemu nalewkarstwu rangę\, na jaką zasługuje. Państwa głos w procesie wpisu na „krajową listę” jest dziś ważniejszy niż kiedykolwiek. \nDo zobaczenia w Skrzynkach!
URL:https://dworskrzynki.pl/wydarzenie/nalewkomania-powraca-tworcy-nalewek-znow-spotkaja-sie-w-dworze-skrzynki/
ATTACH;FMTTYPE=image/png:https://dworskrzynki.pl/wp-content/uploads/2026/03/Nalewkomania_2026.png
END:VEVENT
END:VCALENDAR