BEGIN:VCALENDAR
VERSION:2.0
PRODID:-//Dwór Skrzynki - ECPv6.8.1//NONSGML v1.0//EN
CALSCALE:GREGORIAN
METHOD:PUBLISH
X-WR-CALNAME:Dwór Skrzynki
X-ORIGINAL-URL:https://dworskrzynki.pl
X-WR-CALDESC:Wydarzenia dla Dwór Skrzynki
REFRESH-INTERVAL;VALUE=DURATION:PT1H
X-Robots-Tag:noindex
X-PUBLISHED-TTL:PT1H
BEGIN:VTIMEZONE
TZID:Europe/Warsaw
BEGIN:DAYLIGHT
TZOFFSETFROM:+0100
TZOFFSETTO:+0200
TZNAME:CEST
DTSTART:20260329T010000
END:DAYLIGHT
BEGIN:STANDARD
TZOFFSETFROM:+0200
TZOFFSETTO:+0100
TZNAME:CET
DTSTART:20261025T010000
END:STANDARD
END:VTIMEZONE
BEGIN:VEVENT
DTSTART;TZID=Europe/Warsaw:20260310T100000
DTEND;TZID=Europe/Warsaw:20260310T100000
DTSTAMP:20260420T124632
CREATED:20260220T064943Z
LAST-MODIFIED:20260220T065037Z
UID:12821-1773136800-1773136800@dworskrzynki.pl
SUMMARY:Tradycyjna kiełbasa wielkopolska biała parzona i bambrzoki: marcowe warsztaty kulinarne z KOWR w Dworze Skrzynki
DESCRIPTION:Po sukcesie zeszłorocznej edycji warsztatów cieszących się dużym zainteresowaniem mieszkańców\, Instytut Skrzynki oraz Krajowy Ośrodek Wsparcia Rolnictwa (Oddział Terenowy w Poznaniu) serdecznie zapraszają osoby z obszarów wiejskich województwa wielkopolskiego na wyjątkowe warsztaty kulinarne\, które odbędą się 10 marca 2026 r. (wtorek) w godzinach 10.00 – 14.00 w malowniczym Dworze Skrzynki (pl. Parkowy 1\, 62-060 Skrzynki\, gm. Stęszew\, powiat poznański). \nPodczas spotkania uczestnicy poszerzą swoją wiedzę oraz praktyczne umiejętności w zakresie przygotowywania tradycyjnych wielkopolskich specjałów: \n\nkiełbasy wielkopolskiej białej parzonej\nbambrzoka w dwóch odsłonach.\n\nWarto podkreślić\, że oba wyroby znajdują się na ministerialnej Liście Produktów Tradycyjnych województwa wielkopolskiego\, stanowiąc ważny element regionalnego dziedzictwa kulinarnego. Warsztaty będą nie tylko okazją do nauki sprawdzonych receptur i technik\, ale również do wymiany doświadczeń oraz rozmów o pielęgnowaniu lokalnych tradycji. \nZajęcia poprowadzi uznany specjalista Przemysław Tecław – kierownik Muzeum Gospodarki Mięsnej w Sielinku (Muzeum Narodowe Rolnictwa i Przemysłu Rolno-Spożywczego w Szreniawie). \nOrganizatorzy zapewniają wszystkie niezbędne produkty i materiały do przeprowadzenia warsztatów\, a także poczęstunek i napoje dla uczestników. \nUdział w warsztatach jest bezpłatny. Liczba miejsc ograniczona. \nObowiązują wcześniejsze zapisy – zgłoszenia przyjmowane są do 3 marca 2026 r. włącznie. O zakwalifikowaniu decyduje kolejność zgłoszeń. \nW wydarzeniu mogą uczestniczyć osoby pełnoletnie z terenów wiejskich województwa wielkopolskiego\, w tym członkowie kół gospodyń wiejskich (maksymalnie 2 osoby z jednego KGW w jednym spotkaniu warsztatowym). \nOsoby zakwalifikowane zostaną poinformowane drogą mailową najpóźniej do 6 marca 2026 r. \nJak się zgłosić? \nAby wziąć udział w warsztatach\, należy przesłać wiadomość e-mail na adres:\nwarsztaty@instytutskrzynki.pl.  \nW treści zgłoszenia prosimy podać: \n\nimię i nazwisko uczestnika\,\nkod pocztowy i nazwę miejscowości zamieszkania (wsi)\,\nnazwę KGW (jeśli dotyczy)\,\nnumer telefonu kontaktowego.\n\nSerdecznie zapraszamy do wspólnego gotowania i odkrywania smaków wielkopolskiej tradycji! \nPartnerem tej edycji warsztatów jest Muzeum Narodowe Rolnictwa i Przemysłu Rolno-Spożywczego w Szreniawie.
URL:https://dworskrzynki.pl/wydarzenie/tradycyjna-kielbasa-wielkopolska-biala-parzona-i-bambrzoki-marcowe-warsztaty-kulinarne-z-kowr-w-dworze-skrzynki/
ATTACH;FMTTYPE=image/jpeg:https://dworskrzynki.pl/wp-content/uploads/2026/02/warsztaty-10-03-2026-fb-i-strona.jpg
END:VEVENT
END:VCALENDAR