BEGIN:VCALENDAR
VERSION:2.0
PRODID:-//Dwór Skrzynki - ECPv6.8.1//NONSGML v1.0//EN
CALSCALE:GREGORIAN
METHOD:PUBLISH
X-WR-CALNAME:Dwór Skrzynki
X-ORIGINAL-URL:https://dworskrzynki.pl
X-WR-CALDESC:Wydarzenia dla Dwór Skrzynki
REFRESH-INTERVAL;VALUE=DURATION:PT1H
X-Robots-Tag:noindex
X-PUBLISHED-TTL:PT1H
BEGIN:VTIMEZONE
TZID:Europe/Warsaw
BEGIN:DAYLIGHT
TZOFFSETFROM:+0100
TZOFFSETTO:+0200
TZNAME:CEST
DTSTART:20260329T010000
END:DAYLIGHT
BEGIN:STANDARD
TZOFFSETFROM:+0200
TZOFFSETTO:+0100
TZNAME:CET
DTSTART:20261025T010000
END:STANDARD
END:VTIMEZONE
BEGIN:VEVENT
DTSTART;TZID=Europe/Warsaw:20260307T183000
DTEND;TZID=Europe/Warsaw:20260307T210000
DTSTAMP:20260420T124519
CREATED:20260121T143131Z
LAST-MODIFIED:20260121T143402Z
UID:12612-1772908200-1772917200@dworskrzynki.pl
SUMMARY:TRIBUTE TO ANNA JANTAR – koncert na Dzień Kobiet w Skrzynkach
DESCRIPTION:„Tyle słońca w całym mieście”\, „Staruszek świat”\, „Radość najpiękniejszych lat” – piosenki przez jednych uwielbiane\, wspominane lub odkrywane na nowo na fali nostalgii za tą pokręconą PRL-owską rzeczywistością babć i dziadków. A w tym wszystkim Ona – Anna Jantar – z promiennym uśmiechem\, wielkimi sarnimi oczami i radością emanującą z każdej wyśpiewanej nuty. Zachwycałaby pewnie do dziś\, gdyby nie tragiczny lot\, który dramatycznie przerwał jej karierę. Pozostały wspomnienia i piosenki\, po które sięgają artyści z pokolenia jej wnuków. Czy z powodzeniem? Na pewno znakomicie robi to muzyczne małżeństwo Karoliny i Filipa Chojnackich\, na koncert których zapraszamy z okazji Dnia Kobiet. \nKoncert z okazji Dnia Kobiet \nTRIBUTE TO ANNA JANTAR\nKarolina Kram-Chojnacka – śpiew \nFilip Chojnacki – fortepian \n7.03.2026\, godz. 18.30 \nPodczas koncertu TRIBUTE TO ANNA JANTAR utalentowana i wielokrotnie nagradzana wokalistka Karolina Kram-Chojnacka wraz z mężem\, charyzmatycznym pianistą Filipem Chojnackim zabiorą publiczność w muzyczną podróż do świata wspomnień\, poezji i wzruszeń\, zachęcając do wspólnego śpiewania i przeżywania tych pięknych\, niezapomnianych melodii. To zderzenie dwóch muzycznych światów\, łączących muzykę popową i elektroniczną z jazzowo-soulową nutą oraz odrobiną poezji śpiewanej. \nKarolina Kram-Chojnacka jest wokalistką\, absolwentką Poznańskiej Akademii Muzycznej oraz laureatką licznych konkursów i festiwali wokalnych (np. Festiwalu Polskiej Piosenki w Luboniu\, Ogólnopolskiego Konkursu Piosenek Anny Jantar \,\,Tyle słońca w całym mieście” w Warszawie). Współpracowała m. in. ze Zbigniewem Górnym\, Krzesimirem Dębskim\, czy Hubertem Kowalskim\, występowała jako solistka z Big Bandem AM Paderewski i Orkiestrą Miasta Poznania. \nFilip Chojnacki (pochodzący z Buku) jest pianistą\, kompozytorem\, aranżerem\, absolwentem Poznańskiej Akademii Muzycznej. Jest również laureatem wielu konkursów i festiwali jazzowych (np. Poznań Blue Note Competition\, Jazz Contest w Tarnowie). Współpracuje z wieloma uznanymi muzykami\, m. in. z Sarsą\, Swiernalisem czy zespołem Skalpel. \nKarolina i Filip Chojnaccy to muzyczne małżeństwo\, które łączy nie tylko miłość\, ale i wspólna pasja do muzyki. \nBilet na Koncert TRIBUTE TO ANNA JANTAR może być wspaniałym prezentem na Dzień Kobiet.  Te piosenki mają niezwykłą siłę! Niegdyś stawały się wielkimi przebojami\, bez których nie odbył się żaden bal\, wesele czy rodzinna uroczystość. Dziś przywołują wspomnienia\, ale też zaśpiewane na nowo\, inaczej zaaranżowane cieszą młodszą publiczność. Warto przekonać się o tym osobiście. \nBilety  w cenie 75 zł do kupienia on-line. \n7.03.2026\, godz. 18.30 Dwór Skrzynki! \nZapraszamy też do skorzystania z naszej oferty gastronomicznej. \nPartnerem wydarzeń artystycznych w Dworze Skrzynki jest PKS Poznań S.A. \n  \n  \n  \n  \n 
URL:https://dworskrzynki.pl/wydarzenie/tribute-to-anna-jantar-koncert-na-dzien-kobiet-w-skrzynkach/
ATTACH;FMTTYPE=image/jpeg:https://dworskrzynki.pl/wp-content/uploads/2026/01/www-10-1.jpg
END:VEVENT
END:VCALENDAR