BEGIN:VCALENDAR
VERSION:2.0
PRODID:-//Dwór Skrzynki - ECPv6.8.1//NONSGML v1.0//EN
CALSCALE:GREGORIAN
METHOD:PUBLISH
X-WR-CALNAME:Dwór Skrzynki
X-ORIGINAL-URL:https://dworskrzynki.pl
X-WR-CALDESC:Wydarzenia dla Dwór Skrzynki
REFRESH-INTERVAL;VALUE=DURATION:PT1H
X-Robots-Tag:noindex
X-PUBLISHED-TTL:PT1H
BEGIN:VTIMEZONE
TZID:Europe/Warsaw
BEGIN:DAYLIGHT
TZOFFSETFROM:+0100
TZOFFSETTO:+0200
TZNAME:CEST
DTSTART:20260329T010000
END:DAYLIGHT
BEGIN:STANDARD
TZOFFSETFROM:+0200
TZOFFSETTO:+0100
TZNAME:CET
DTSTART:20261025T010000
END:STANDARD
END:VTIMEZONE
BEGIN:VEVENT
DTSTART;TZID=Europe/Warsaw:20260208T160000
DTEND;TZID=Europe/Warsaw:20260208T160000
DTSTAMP:20260422T112115
CREATED:20260114T070718Z
LAST-MODIFIED:20260320T070337Z
UID:12576-1770566400-1770566400@dworskrzynki.pl
SUMMARY:Wernisaż fotografii nagrodzonych w konkursie „Niby detale\, ale…” edycja 2025
DESCRIPTION:Wielkopolska w obiektywie mieszkańców: wernisaż fotografii nagrodzonych w konkursie „Niby detale\, ale…” edycja 2025 \nZapraszamy na wernisaż wystawy prac nagrodzonych w konkursie fotograficznym „NIBY DETALE\, ALE…” – edycja 2025 organizowanym przez samorządową instytucję kultury – Instytut Skrzynki. \nWernisaż wystawy i spotkanie z laureatami odbędzie się w niedzielę\, 8 lutego 2026 o godz. 16.00 w Dworze Skrzynki (Pl. Parkowy 1\, 62-060 Skrzynki\, gm. Stęszew). Wstęp wolny. \nUczestnicy konkursu uchwycili w migawce elementy architektury\, zabudowy\, detale architektoniczne\, dekoracje i ozdoby będące elementem wystroju wnętrz i budynków\, oraz inne elementy współtworzące architekturę. Rozpoznać można było także elementy krajobrazu kulturowego\, artefakty kulturowe w tym etnograficzne lub ich fragmenty (np. stroje ludowe\, przedmioty codziennego użytku\, wyroby rzemiosła\, figury i inne elementy sztuki ludowej) oraz elementy tradycyjnej infrastruktury wiejskiej (np. narzędzia\, urządzenia\, maszyny rolnicze itp.). \nZadaniem uczestników konkursu było znalezienie i podkreślenie historycznego (do 1989 roku) charakteru fotografowanych obiektów\, a wszystkie miejsca uchwycone na zdjęciach znajdują się na terenie województwa wielkopolskiego. \nOrganizatorzy Konkursu zachęcali do fotografowania obiektów znajdujących się bezpośrednio lub w bliskim otoczeniu miejsca zamieszkania uczestników konkursu (zasoby własne lub rodzinne). \nW tegorocznej\, drugiej edycji konkursu fotograficznego NIBY DETALE\, ALE… fotografowie pasjonaci z Wielkopolski przesłali aż 450 zdjęć. \nLaureatami tegorocznej edycji są: \nW kategorii artystycznej  \nGrand Prix – udział w warsztatach fotograficznych\, prowadzonych w Uniwersytecie Artystycznym im. Magdaleny Abakanowicz w Poznaniu\, w ramach programu „Twórz i już!” w roku akademickim 2025/2026 – sfinansowany przez Fundację Nową Uniwersytetu Artystycznego oraz Puchar Starosty Poznańskiego Jana Grabkowskiego w Poznaniu otrzymała: Buszczak – Męcina Agata za ex aequo dwa zdjęcia: Poznań Dąbrowskiego oraz Poznań Nowina \n  \nI miejsce – nagrodę finansową w wysokości 1 000\,00 zł ufundowaną przez Instytut Skrzynki otrzymała: Bednarek Bogumiła za ex aequo dwa zdjęcia: Lodownia przy pałacu w Lewkowie oraz Ruiny kaplicy loretańskiej w Skrzebowej \nII miejsce – nagrodę finansową w wysokości 500\,00 zł ufundowaną przez Instytut Skrzynki otrzymał Misiewicz Łukasz za zdjęcie Pobiedziska – Cmentarz \nIII miejsce – nagrodę finansową w wysokości 250\,00 zł ufundowaną przez Instytut Skrzynki otrzymał: Łuczak Tomasz za zdjęcie Teatr 2 \n  \nwyróżnienia otrzymali: \n\n Bednarek Bogumiła za zdjęcia:\n\n– Kopuła bazyliki świętogórskiej \n– Pałac Radziwiłłów w Antoninie \n– Komin w Pałacu Radziwiłłów w Antoninie \n– Krotoszanka \n\nWankowski Maciej za zdjęcie dramat\nBuszczak – Męcina Agata za zdjęcie Poznań Jackowskiego\nŁuczak Tomasz za zdjęcie Teatr 1\nBartkowiak Romualda za zdjęcie Dawny kościół ewangelicki w Folsztynie z 1869-1870 roku\n\nNagrodę specjalną Powiatowego Konserwatora Zabytków w powiecie poznańskim (nagroda rzeczowa o wartości do 500 zł) otrzymał Wojciech Domagała za zdjęcie Konin. \nNagrodę specjalną Oddziału Terenowego Narodowego Instytutu Dziedzictwa w Poznaniu (zestaw wydawnictw książkowych) – otrzymał Wankowski Maciej za zdjęcie Dramat \nNagrodę specjalną za najlepsze zdjęcie z terenu powiatu poznańskiego – Puchar Starosty Poznańskiego otrzymał Misiewicz Łukasz za zdjęcie Pobiedziska – Cmentarz \nW kategorii dokumentacyjnej \nI miejsce – nagrodę finansową w wysokości 1 000\,00 zł ufundowaną przez Instytut Skrzynki oraz Puchar Starosty Poznańskiego – Jana Grabkowskiego otrzymał: Buszczak – Męcina Agata za ex aequo dwa zestawy zdjęć: – Nr 7D Poznań Samotna\, – Nr 11D Poznań Nowina \nII miejsce – nagrodę finansową w wysokości 500\,00 zł ufundowaną przez Instytut Skrzynki otrzymał: Łuczak Katarzyna za zestaw zdjęć Nr 18D Zamek w Gołuchowie \nIII miejsce – nagrodę finansową w wysokości 250\,00 zł ufundowaną przez Instytut Skrzynki otrzymał: Biały Piotr za zestaw zdjęć Nr 3D Budynek przy ulicy Szerokiej 17 w Grodzisku Wielkopolskim \nwyróżnienia otrzymali: \n\nBiały Piotr za zestawy zdjęć: – Nr 3D: Budynek przy ulicy Szerokiej 17 w Grodzisku Wielkopolskim oraz – Nr 2D: Niedziałający Browar w Grodzisku Wielkopolskim\nBuszczak – Męcina Agata za zestawy zdjęć: – Nr 12D Poznań Jackowskiego oraz – Nr 10D Kicin\nMacios Arkadiusz za zdjęcie Kuźnia \n\n  \nNagrodę specjalną Powiatowego Konserwatora Zabytków (ekskluzywne zwiedzanie z konserwatorem zabytków zespołu pocysterskiego w Owińskach wraz z możliwością fotografowania obiektów i miejsc na co dzień niedostępnych dla zwiedzających) otrzymał: Macios Arkadiusz za zdjęcie Powóz konny \nNagrodę specjalną Oddziału Terenowego Narodowego Instytutu Dziedzictwa w Poznaniu (zestaw wydawnictw książkowych) otrzymała: Maćkowska Barbara za zestaw zdjęć Nr 22 D Piękny szachulec \nNagrodę specjalną za najlepsze zdjęcie z terenu powiatu poznańskiego – Puchar Starosty Poznańskiego otrzymała: Buszczak – Męcina Agata za zestaw zdjęć Nr 10D Kicin. \nW skład Kapituły konkursu weszli: \n\nJanusz Oleksa – Kierownik I Pracowni Fotografii w Katedrze Fotografii\, Wydziału Fotografii Uniwersytetu Artystycznego im. Magdaleny Abakanowicz w Poznaniu\nTeresa Palacz – Kierownik Oddziału Terenowego Narodowego Instytutu Dziedzictwa w Poznaniu\nWiesław Biegański – Powiatowy Konserwator Zabytków dla powiatu poznańskiego\nAnna Barłóg-Mitmańska – Kustosz w Muzeum Narodowym Rolnictwa i Przemysłu Rolno-Spożywczego w Szreniawie\nKarolina Echaust – Kierownik Centrum Dziedzictwa Kulturowego i Kulinarnego w Instytucie Skrzynki\nJan Babczyszyn – Dyrektor Instytutu Skrzynki\n\nOrganizatorem konkursu był Instytut Skrzynki – Instytut Dokumentacji\, Rozwoju i Promocji Dziedzictwa Kulturowego i Kulinarnego Powiatu Poznańskiego. \nPartnerami Konkursu byli: Fundacja Nowa Uniwersytetu Artystycznego w Poznaniu\, Narodowy Instytut Dziedzictwa\, Oddział Terenowy w Poznaniu\, Powiatowy Konserwator Zabytków – Starostwo Powiatowe w Poznaniu. \nKonkurs organizowany był pod honorowym patronatem Starosty Poznańskiego Jana Grabkowskiego oraz JM Rektora Uniwersytetu Artystycznego im. Magdaleny Abakanowicz w Poznaniu. \nKonkurs organizowany był w ramach działalności statutowej Instytutu Skrzynki w obszarze dokumentacji zasobów dziedzictwa kulturowego Wielkopolski\, w tym powiatu poznańskiego. Celem konkursu były: zwiększenie poczucia tożsamości regionalnej Wielkopolski; pobudzenie zainteresowania dokumentowaniem regionalnych zabytków i/lub ich fragmentów; zwrócenie uwagi na potrzebę ochrony szeroko pojmowanego krajobrazu kulturowego Wielkopolski oraz promocja bogactwa i różnorodności dziedzictwa naszego regionu. \nWszystkim laureatom serdecznie gratulujemy! \nZapraszamy na wernisaż! Wstęp wolny.
URL:https://dworskrzynki.pl/wydarzenie/wernisaz-fotografii-nagrodzonych-w-konkursie-niby-detale-ale-edycja-2025/
ATTACH;FMTTYPE=image/jpeg:https://dworskrzynki.pl/wp-content/uploads/2026/01/wernisaz-NIBY-DETALE-ALE-23-02-2025-strona-www-i-Facebook.jpg
END:VEVENT
END:VCALENDAR