BEGIN:VCALENDAR
VERSION:2.0
PRODID:-//Dwór Skrzynki - ECPv6.8.1//NONSGML v1.0//EN
CALSCALE:GREGORIAN
METHOD:PUBLISH
X-ORIGINAL-URL:https://dworskrzynki.pl
X-WR-CALDESC:Wydarzenia dla Dwór Skrzynki
REFRESH-INTERVAL;VALUE=DURATION:PT1H
X-Robots-Tag:noindex
X-PUBLISHED-TTL:PT1H
BEGIN:VTIMEZONE
TZID:Europe/Warsaw
BEGIN:DAYLIGHT
TZOFFSETFROM:+0100
TZOFFSETTO:+0200
TZNAME:CEST
DTSTART:20250330T010000
END:DAYLIGHT
BEGIN:STANDARD
TZOFFSETFROM:+0200
TZOFFSETTO:+0100
TZNAME:CET
DTSTART:20251026T010000
END:STANDARD
END:VTIMEZONE
BEGIN:VEVENT
DTSTART;TZID=Europe/Warsaw:20250415T100000
DTEND;TZID=Europe/Warsaw:20250415T140000
DTSTAMP:20260421T123651
CREATED:20250326T090029Z
LAST-MODIFIED:20250325T140430Z
UID:9030-1744711200-1744725600@dworskrzynki.pl
SUMMARY:Wędliny na Wielkanoc - kulinarne warsztaty dla osób z obszarów wiejskich w Wielkopolsce
DESCRIPTION:Zapraszamy na warsztaty kulinarne osoby z obszarów wiejskich\, które odbędą się 15 kwietnia br. w Dworze Skrzynki (gm. Stęszew\, powiat poznański)\, w godzinach 10.00 – 14.00. \nUczestnicy warsztatów rozszerzą swoją wiedzę i umiejętności w zakresie sposobów przyrządzania kiełbasy wielkopolskiej białej parzonej oraz kiełbasy domowej pasztetowej. Warto przypomnieć\, że w/w kiełbasa biała jest wpisana na ministerialną listę produktów tradycyjnych dla woj. wielkopolskiego. \nProwadzącymi będą: \n\nPrzemysław Tecław – kierownik Muzeum Gospodarki Mięsnej w Sielinku (Muzeum Narodowe Rolnictwa i Przemysłu Rolno-Spożywczego w Szreniawie)\nZbigniew Kmieć – trener kulinarny\, Główny Ekspert ZPP ds. rolnictwa i żywności\n\nOrganizatorzy zapewniają niezbędne produkty do przeprowadzenia warsztatów\, a także posiłek i napoje dla uczestników. \nUdział w warsztatach jest bezpłatny. Obowiązują zapisy – zgłoszenia przyjmowane są do dnia 07 kwietnia włącznie\, decyduje kolejność zgłoszeń\, niemniej przewidziano pierwszeństwo dla osób\, które będą brały udział po raz pierwszy. W wydarzeniu mogą brać udział pełnoletnie osoby z terenów wiejskich w Wielkopolsce\, w tym członkowie kół gospodyń wiejskich (max. 2 osoby z danego koła na 1 warsztacie). \nOrganizatorami wydarzenia są Instytut Skrzynki – Instytut Dokumentacji\, Rozwoju i Promocji Dziedzictwa Kulturowego i Kulinarnego Powiatu Poznańskiego oraz Krajowy Ośrodek Wsparcia Rolnictwa (KOWR) – Oddział Terenowy w Poznaniu. \nTermin: 15.04.2025 (wtorek) godzina: 10:00 – 14:00. \nMiejsce : Dwór Skrzynki\, pl. Parkowy 1\, 62-060 Skrzynki\, gm. Stęszew\, powiat poznański \nAby zgłosić swój udział należy przesłać email na adres: kontakt@instytutskrzynki.pl zawierający: imię i nazwisko uczestnika\, nazwę miejscowości zamieszkania (wsi)\, nazwę KGW (jeśli dotyczy) oraz telefon kontaktowy. \nOsoby\, które zgłoszą się do udziału zostaną najpóźniej do dnia 09 kwietnia poinformowane e-mailem zwrotnym o zakwalifikowaniu na warsztaty. \nSerdecznie zapraszamy!
URL:https://dworskrzynki.pl/wydarzenie/wedliny-na-wielkanoc-kulinarne-warsztaty-dla-osob-z-obszarow-wiejskich-w-wielkopolsce/
ATTACH;FMTTYPE=image/jpeg:https://dworskrzynki.pl/wp-content/uploads/2025/03/wedliny-fb-i-strona.jpg
END:VEVENT
END:VCALENDAR