BEGIN:VCALENDAR
VERSION:2.0
PRODID:-//Dwór Skrzynki - ECPv6.8.1//NONSGML v1.0//EN
CALSCALE:GREGORIAN
METHOD:PUBLISH
X-WR-CALNAME:Dwór Skrzynki
X-ORIGINAL-URL:https://dworskrzynki.pl
X-WR-CALDESC:Wydarzenia dla Dwór Skrzynki
REFRESH-INTERVAL;VALUE=DURATION:PT1H
X-Robots-Tag:noindex
X-PUBLISHED-TTL:PT1H
BEGIN:VTIMEZONE
TZID:Europe/Warsaw
BEGIN:DAYLIGHT
TZOFFSETFROM:+0100
TZOFFSETTO:+0200
TZNAME:CEST
DTSTART:20250330T010000
END:DAYLIGHT
BEGIN:STANDARD
TZOFFSETFROM:+0200
TZOFFSETTO:+0100
TZNAME:CET
DTSTART:20251026T010000
END:STANDARD
END:VTIMEZONE
BEGIN:VEVENT
DTSTART;TZID=Europe/Warsaw:20250323T160000
DTEND;TZID=Europe/Warsaw:20250323T173000
DTSTAMP:20260421T144347
CREATED:20250301T135050Z
LAST-MODIFIED:20250301T135050Z
UID:8719-1742745600-1742751000@dworskrzynki.pl
SUMMARY:Wernisaż wystawy fotografii Tadeusza Rosińskiego – „Ptaki okolic Skrzynek ”
DESCRIPTION:Podśpiewują\, podlatują\, czasem czmychną spłoszone\, czasem napaskudzą albo świergolą zbyt głośno\, często ich nie zauważamy choć są tuż obok… nasi skrzydlaci współmieszkańcy otaczającej nas przyrody. Ptaki! Z zoologicznego punktu widzenia to tylko gromada stałocieplnych kręgowców i potomków dinozaurów\, ale dla fotografika – choć płochliwy i trudny – wyjątkowo wdzięczny obiekt przed obiektywem. \nGaleria Skrzynki znajdująca się w przyziemiu Dworu Skrzynki zaprasza\n23 marca o 16:00\nna wernisaż wystawy fotografii Tadeusza Rosińskiego – „Ptaki okolic Skrzynek”.\nWSTĘP WOLNY! \nTadeusz Rosiński z zawodu inżynier mechanik jest z zamiłowania przyrodnikiem i fotografem. Fotografią przyrodniczą pasjonuje się od lat. Bywa\, że wspaniałych kadrów szuka na dalekich wyprawach na innych kontynentach – w samej tylko Afryce sfotografował 800 gatunków ptaków. \nFotografowanie przyrody\, a w szczególności ptaków  wymaga przede wszystkim cierpliwości i wielu przygotowań. Ale nagrodą za kilka godzin spędzonych pod siatką maskującą lub ruchomym szałasem nazywanym przez ptasiarzy  „budą”\, są niesamowite kadry uwieczniające z bliska życie skrzydlatych lokatorów lasów i łąk. Gdyby nie tacy pasjonaci jak pan Tadeusz\, nie zauważylibyśmy jak piękne upierzenie mają choćby strzyżyki\, mysikróliki albo zwyczajne wróbelki. Niby zwyczajne\, a z bliska okazują się być wspaniałymi dziełami żywej natury. \nTadeusz Rosiński fotografuje ptaki na dalekich wyprawach\, ale również w pobliżu swojego domu w Skrzynkach. Wiele zdjęć\, prezentowanych na wystawie\, powstało właśnie w przydomowym ogrodzie\, który szczęśliwie znajduje się na skraju lasu. Latem do ogrodu ptaki przyciąga oczko wodne\, a zimą karmnik. Są też zdjęcia\, które powstały w najbliższej okolicy: w lesie\, nad stawkami położonymi za boiskiem sportowym w Skrzynkach\,  nad stawami w Grzybnie\, w okolicach Jeziora Strykowskiego… \nZapraszamy!
URL:https://dworskrzynki.pl/wydarzenie/wernisaz-wystawy-fotografii-tadeusza-rosinskiego-ptaki-okolic-skrzynek/
ATTACH;FMTTYPE=image/jpeg:https://dworskrzynki.pl/wp-content/uploads/2025/03/Wernisaz-PTAKI-OKOLIC-SKRZYNEK-facebook-i-strona.jpg
END:VEVENT
END:VCALENDAR