BEGIN:VCALENDAR
VERSION:2.0
PRODID:-//Dwór Skrzynki - ECPv6.8.1//NONSGML v1.0//EN
CALSCALE:GREGORIAN
METHOD:PUBLISH
X-WR-CALNAME:Dwór Skrzynki
X-ORIGINAL-URL:https://dworskrzynki.pl
X-WR-CALDESC:Wydarzenia dla Dwór Skrzynki
REFRESH-INTERVAL;VALUE=DURATION:PT1H
X-Robots-Tag:noindex
X-PUBLISHED-TTL:PT1H
BEGIN:VTIMEZONE
TZID:Europe/Warsaw
BEGIN:DAYLIGHT
TZOFFSETFROM:+0100
TZOFFSETTO:+0200
TZNAME:CEST
DTSTART:20250330T010000
END:DAYLIGHT
BEGIN:STANDARD
TZOFFSETFROM:+0200
TZOFFSETTO:+0100
TZNAME:CET
DTSTART:20251026T010000
END:STANDARD
END:VTIMEZONE
BEGIN:VEVENT
DTSTART;TZID=Europe/Warsaw:20250322T000000
DTEND;TZID=Europe/Warsaw:20250323T000000
DTSTAMP:20260421T144400
CREATED:20250321T104227Z
LAST-MODIFIED:20250321T104227Z
UID:8952-1742601600-1742688000@dworskrzynki.pl
SUMMARY:Przywitaj wiosnę w Dworze Skrzynki
DESCRIPTION:Przywitaj wiosnę w Dworze Skrzynki \nSłoneczna pogoda zachęca do weekendowych wypadów rodzinnych. Warto zajrzeć do Dworu Skrzynki\, gdzie: \n\ndziała restauracja z wyśmienitą kuchnią polską i wielkopolską (sob. 12.00 – 22.00\, niedz. 12.00 – 20.00)\nw niedzielę zrelaksować się przy muzyce na żywo: za fortepianem zasiądzie tradycyjnie już Michał Szóstek\nmożna odwiedzić wystawę w galerii fotografii oraz salę z pamiątkami związanymi z obiektem\npark wokół dworu zachęca do spacerowania i szukania pani Wiosny.\n\nDodatkowo\, w dniach 22. – 23. marca dzieci\, które przybędą z opiekunami do restauracji Dworu Skrzynki na rodzinny obiad lub podwieczorek\, otrzymają kolorowankę i kredki od Powiatu Poznańskiego. Bo wiosną musi być kolorowo! \nrezerwacja stolików: 691 838 221 \nZapraszamy!
URL:https://dworskrzynki.pl/wydarzenie/przywitaj-wiosne-w-dworze-skrzynki/
ATTACH;FMTTYPE=image/jpeg:https://dworskrzynki.pl/wp-content/uploads/2025/03/wiosna-2.jpg
END:VEVENT
BEGIN:VEVENT
DTSTART;TZID=Europe/Warsaw:20250322T093000
DTEND;TZID=Europe/Warsaw:20250322T130000
DTSTAMP:20260421T144400
CREATED:20250218T124816Z
LAST-MODIFIED:20250218T170008Z
UID:8645-1742635800-1742648400@dworskrzynki.pl
SUMMARY:W świetle reflektorów. O wrażliwości. | grafika – autoterapeutyczne warsztaty dla kobiet
DESCRIPTION:W sobotę\, 22 marca 2025 r. w Dworze Skrzynki (gm. Stęszew) odbędą się ARTEterapeutyczne warsztaty dla kobiet W świetle reflektorów. O wrażliwości. | grafika. \nWrażliwość – od wstydu do dumy. Rozmawiając o miękkim podbrzuszu każdego z nas\, twórcze działanie poświęcone będzie nadaniu kształtu wrażliwości poprzez stworzenie ilustracji za pomocą pędzla i tuszu. Jakie znaczenie mają namalowane symbole? Co się za nimi kryje? Czy moja wrażliwość jest moim zasobem czy raczej ciężarem? Jak poradzić sobie z ilością bodźców\, którymi każdego dnia jesteśmy atakowani \n\nSesja trwa 3 godziny: od 9:45 do 12:45\nGrupa liczyć będzie maksymalnie 12 osób\, czyli decyduje kolejność zgłoszeń.\nOdpłatność:  50 zł od osoby\nWiek: od 13 do 83 lat\, czyli w praktyce nie ma znaczenia – liczą się przede wszystkim chęci!\n\nZgłoszenia prosimy kierować poprzez stronę: www.dworskrzynki.pl lub na adres: kontakt@instytutskrzynki.pl \nKim jest Marta Szostak\, prowadzącą warsztaty? \nJest  absolwentką arteterapii na Uniwersytecie Medycznym im. Karola Marcinkowskiego oraz muzykologii\, kulturoznawstwa i studiów z zakresu rozwoju publiczności na Uniwersytecie im. Adama Mickiewicza. Stale współpracuje z poznańskimi NGO-sami\, w tym Fundacją Odzyskani oraz Fundacją im. Julii Woykowskiej\, w których prowadzi warsztaty arteterapeutyczne przeznaczone głównie (choć nie jedynie) dla młodzieży i tzw. młodych dorosłych. W poznańskiej Scenie Roboczej – Społecznym Miejscu Kultury zaprojektowała i przeprowadziła pilotażowe warsztaty towarzyszące premierze jednego ze spektakli. Regularnie współtworzy działania edukacyjne organizowane przez Teatr Muzyczny w Łodzi. Arteterapia to dla niej podróż przez sztukę w głąb siebie; to szansa na usłyszenie swojego głosu oraz zaobserwowanie i nazwanie emocji\, to przestrzeń do rozwoju i czas na refleksję\, którą wspiera swobodne twórcze działanie. To proces\, w którym sztuka jest towarzyszem\, a człowiek – celem. \nSerdecznie zapraszamy! \nWarsztaty arteterapeutyczne pn. „W świetle reflektorów. O wrażliwości. | grafika” \n22.03.2025 r. g. 9.45 \nDwór Skrzynki\, pl. Parkowy 1\, 62-060 Skrzynki\, gm. Stęszew \nwww.dworskrzynki.pl
URL:https://dworskrzynki.pl/wydarzenie/w-swietle-reflektorow-o-wrazliwosci-grafika-autoterapeutyczne-warsztaty-dla-kobiet/
ATTACH;FMTTYPE=image/jpeg:https://dworskrzynki.pl/wp-content/uploads/2025/02/arte-22-03-2025-fb-i-strona.jpg
END:VEVENT
BEGIN:VEVENT
DTSTART;TZID=Europe/Warsaw:20250322T183000
DTEND;TZID=Europe/Warsaw:20250322T203000
DTSTAMP:20260421T144400
CREATED:20250123T190936Z
LAST-MODIFIED:20250123T192443Z
UID:8380-1742668200-1742675400@dworskrzynki.pl
SUMMARY:Koncert "Kaczmarski. 20 lat ciszy" w Dworze Skrzynki
DESCRIPTION:„Obława”\, „Nasza klasa”\, czy „Mury” –  to kanon polskich emocjonalnych pieśni\, które w ubiegłym wieku były symbolem antykomunistycznej opozycji i tęsknoty za wolnością dla milionów Polaków. Dobrze znamy ich refreny\, pierwsze zwrotki – czy jednak pamiętamy\, że od śmierci ich autora minęło już tyle lat. W ubiegłym roku obchodzono 20 rocznicę śmierci Jacka Kaczmarskiego legendarnego barda i z tej okazji Kuba Blokesz postanowił koncertem „Kaczmarski. 20 lat ciszy” nie tylko oddać hołd artyście\, ale także przybliżyć konteksty powstania wielu utworów. \nW czasie koncertu wybrzmią więc nie tylko znane pieśni\, ale także historie stojące za nimi. To krótkie opowieści o życiu Jacka Kaczmarskiego\, a także archiwalne fotografie oraz malarstwo\, które było częstym tematem twórczości Autora. Jak sam Kuba Blokesz pisze … „Chcę w tym koncercie nieco odczarować czarno-biały wizerunek Kaczmarskiego wyłącznie jako barda “Solidarności”. Jego poezja to coś o wiele więcej niż wyłącznie podkład muzyczny do obrazków ze Stoczni\, czy stanu wojennego. Poezja Kaczmarskiego jest tak bogatą biblioteką tematów i treści\, że wykonywanie jego repertuaru jest za każdym razem ogromną przyjemnością”… \nKuba Blokesz to wokalista i gitarzysta. Ślązak z pochodzenia i warszawiak z wyboru. Wydał 3 własne płyty\, był producentem muzycznym dwóch kolejnych i zagrał ponad 500 koncertów w całej Polsce. Śpiewa piosenki napisane przez siebie\, tłumaczenia i piosenki innych autorów. Nieodmiennie towarzyszy mu gitara. Jest laureatem kilkunastu festiwali piosenki\, między innymi na Studenckim Festiwalu Piosenki w Krakowie\, Festiwalu Pamiętajmy o Osieckiej w Warszawie\, w czasie Spotkań Zamkowych w Olsztynie\, na  Festiwalu Twórczości „Korowód” w Krakowie\, Festiwalu im. Jacka Kaczmarskiego „Nadzieja” w Kołobrzegu i  Festiwalu im. Jacka Kaczmarskiego „Święto Wolności” w Gdańsku. Występował w koncertach i telewizyjnych i radiowych spektaklach muzycznych. Współpracował z takimi artystami jak Jaromír Nohavica\, Andrzej Poniedzielski\, Roman Kołakowski\, Stefan Brzozowski (Czerwony Tulipan)\, Jerzy Satanowski czy Bogusław Sobczuk. Podczas pandemii\, przeniósł swoją działalność do Internetu\, tworząc serię „Liga Mistrzów” i bardzo popularny kanał blokesz.pl YouTube.  Śpiewa w nim regularne\, pełne recitale poświęcone mistrzom piosenkopisarstwa. W ponad 30 koncertach rozbrzmiały już piosenki takich twórców jak: Wojciech Młynarski\, Agnieszka Osiecka\, Kuba Sienkiewicz\, czy Jacek Kaczmarski i wielu innych. W 2023 roku  ukazała się jego ostatnia  płyta– „Śpiewnik młodzieńczy”– to debiut Blokesza jako autora tekstów. Kilkanaście nowych piosenek\, nagranych niemal w całości samodzielnie przez autora odsłaniają nowy styl i nową wypowiedź. \nKoncert “Kaczmarski. 20 lat ciszy” Kuby Blokesza  \n22 marca 2025 r. o godzinie 18.30 w Dworze Skrzynki. \nBilety w cenie 40 zł do kupienia on-line na www.instytutskrzynki.pl lub www.dworskrzynki.pl \nJak zawsze zachęcamy do przybycia z półgodzinnym wyprzedzeniem\, ponieważ w trakcie koncertu serwis restauracji jest nieczynny.  Po zakończeniu muzycznej części spotkania zachęcamy również do skorzystania z naszej oferty gastronomicznej. \n  \n  \n 
URL:https://dworskrzynki.pl/wydarzenie/koncert-kaczmarski-20-lat-ciszy-w-dworze-skrzynki/
ATTACH;FMTTYPE=image/jpeg:https://dworskrzynki.pl/wp-content/uploads/2025/01/www-31.jpg
END:VEVENT
END:VCALENDAR