BEGIN:VCALENDAR
VERSION:2.0
PRODID:-//Dwór Skrzynki - ECPv6.8.1//NONSGML v1.0//EN
CALSCALE:GREGORIAN
METHOD:PUBLISH
X-ORIGINAL-URL:https://dworskrzynki.pl
X-WR-CALDESC:Wydarzenia dla Dwór Skrzynki
REFRESH-INTERVAL;VALUE=DURATION:PT1H
X-Robots-Tag:noindex
X-PUBLISHED-TTL:PT1H
BEGIN:VTIMEZONE
TZID:Europe/Warsaw
BEGIN:DAYLIGHT
TZOFFSETFROM:+0100
TZOFFSETTO:+0200
TZNAME:CEST
DTSTART:20250330T010000
END:DAYLIGHT
BEGIN:STANDARD
TZOFFSETFROM:+0200
TZOFFSETTO:+0100
TZNAME:CET
DTSTART:20251026T010000
END:STANDARD
END:VTIMEZONE
BEGIN:VEVENT
DTSTART;TZID=Europe/Warsaw:20250308T183000
DTEND;TZID=Europe/Warsaw:20250308T203000
DTSTAMP:20260421T144513
CREATED:20250208T101114Z
LAST-MODIFIED:20250208T101114Z
UID:8472-1741458600-1741465800@dworskrzynki.pl
SUMMARY:NAJPIĘKNIEJSZE POLSKIE PIOSENKI O MIŁOŚCI w Dworze Skrzynki
DESCRIPTION:W Dniu Kobiet\, w  sobotę 8 marca o godz.18.30 w Dworze Skrzynki zapowiada się kolejne niezwykłe muzyczne wydarzenie.  Przede wszystkim z myślą o Paniach\, choć nie tylko… Pola Miko przy akompaniamencie Mateusza Walczaka zaśpiewa piękne\, polskie piosenki o miłości. Nie zabraknie utworów takich wykonawców jak: Zbigniew  Wodecki\, Krzysztof Krawczyk\, Grażyna Łobaszewska\, Andrzej Zaucha\, Bogusław Mec\, Natalia Kukulska\, Anna Jantar\, Zdzisława Sośnicka czy Seweryn Krajewski. \nPola Miko to wokalistka\, songwriterka i obieżyświat. Od zawsze wiedziała\, że chce być artystką. Swoją przygodę z muzyką rozpoczęła w wieku 10 lat\, a ta zaprowadziła ją w najróżniejsze zakątki świata – od Danii\, gdzie ukończyła szkołę pisania piosenek\, po Puerto Rico\, Meksyk czy Nowy Jork. Dziś nie tylko sama śpiewa\, ale zajmuje się też szkoleniem innych wokalistów\, a wielu z jej uczniów zasiliło program The Voice of Poland. Uczestniczka programu Mam Talent ma na swoim koncie autorską płytę 'Kalejdoskop’\, z którą wystąpiła m.in. w Dzień Dobry TVN oraz Polskim Radiu. Piosenki z płyty można było usłyszeć w Jedynce\, Dwójce oraz Trójce Polskiego Radia\, a także w Radiu 357. \nMateusz Walczak – muzyk\, pianista i producent muzyczny związany z Poznaniem.\nW swojej dotychczasowej karierze współpracował między innymi z takimi artystami jak: Kuba Jurzyk\, Wiktor Dyduła\, Marcin Maciejczak. Od kilku lat jest członkiem zespołu Małgorzaty Ostrowskiej\, u jej boku wystąpił w takich  miejscach jak: Top of The Top Sopot festiwal\, Sylwester z Dwójką\, Lato z Radiem i TVP oraz programach Muzyka na dobry wieczór (TVP)\, Dzień Dobry TVN czy Jaka to Melodia. \nTym razem Pola Miko i Mateusz Walczak zabiorą nas we wspaniałą podróż\, która poprowadzi przez najpiękniejsze polskie piosenki o miłości. Zapowiada się zatem wieczór pełen wzruszeń i emocji. \nBilety do nabycia on-line\, w cenie 50 zł. Zapraszamy! \nSpotkanie zacznijmy jednak jak zwykle z co najmniej półgodzinnym wyprzedzeniem\, ponieważ -przypominamy\, że w trakcie koncertu serwis restauracji jest nieczynny. Zapraszamy do skorzystania z oferty gastronomicznej restauracji Dworu Skrzynki przed i po koncercie. \n 
URL:https://dworskrzynki.pl/wydarzenie/najpiekniejsze-polskie-piosenki-o-milosci-w-dworze-skrzynki/
ATTACH;FMTTYPE=image/jpeg:https://dworskrzynki.pl/wp-content/uploads/2025/02/www-34.jpg
END:VEVENT
END:VCALENDAR