BEGIN:VCALENDAR
VERSION:2.0
PRODID:-//Dwór Skrzynki - ECPv6.8.1//NONSGML v1.0//EN
CALSCALE:GREGORIAN
METHOD:PUBLISH
X-ORIGINAL-URL:https://dworskrzynki.pl
X-WR-CALDESC:Wydarzenia dla Dwór Skrzynki
REFRESH-INTERVAL;VALUE=DURATION:PT1H
X-Robots-Tag:noindex
X-PUBLISHED-TTL:PT1H
BEGIN:VTIMEZONE
TZID:Europe/Warsaw
BEGIN:DAYLIGHT
TZOFFSETFROM:+0100
TZOFFSETTO:+0200
TZNAME:CEST
DTSTART:20250330T010000
END:DAYLIGHT
BEGIN:STANDARD
TZOFFSETFROM:+0200
TZOFFSETTO:+0100
TZNAME:CET
DTSTART:20251026T010000
END:STANDARD
END:VTIMEZONE
BEGIN:VEVENT
DTSTART;TZID=Europe/Warsaw:20250301T190000
DTEND;TZID=Europe/Warsaw:20250301T190000
DTSTAMP:20260421T144513
CREATED:20250124T115649Z
LAST-MODIFIED:20250124T163429Z
UID:8390-1740855600-1740855600@dworskrzynki.pl
SUMMARY:Przebojowa Zabawa Ostatkowa w Dworze Skrzynki
DESCRIPTION:Tegoroczny karnawał jest dość długi\, tym bardziej wymaga odpowiedniego pożegnania we wspaniałej atmosferze! Zapraszamy na Przebojową Zabawę Ostatkową do Dworu Skrzynki w sobotę\, 1 marca 2025 r. w godz. 19.00 – 4.00. Na gości czekają: muzyka za żywo (Trio Szóstka) oraz wyśmienite menu: ciepła kolacja w bufecie\, słodki i zimny bufet. Woda oraz napoje ciepłe i zimne w cenie. \nCena zaproszenia na imprezę wynosi 250 zł/osoby. \nZachęcamy także do skorzystania z oferty noclegowej w Dworze Skrzynki. Nocleg  ze śniadaniem płatny dodatkowo  – 125 zł/os. (250 zł/para). Liczba miejsc ograniczona. \n  \nZarezerwuj miejsce już dziś! kontakt@dworskrzynki.pl\, tel. 533 123 174 \nDwór Skrzynki\, Pl. Parkowy 1\, Skrzynki\, gm. Stęszew \nwww.dworskrzynki.pl \n  \nDo zobaczenia w Skrzynkach!
URL:https://dworskrzynki.pl/wydarzenie/przebojowa-zabawa-ostatkowa-w-dworze-skrzynki/
ATTACH;FMTTYPE=image/jpeg:https://dworskrzynki.pl/wp-content/uploads/2025/01/zabawa-ostatkowa-1-03-2025-facebook-i-strona_popr-2.jpg
END:VEVENT
END:VCALENDAR