BEGIN:VCALENDAR
VERSION:2.0
PRODID:-//Dwór Skrzynki - ECPv6.8.1//NONSGML v1.0//EN
CALSCALE:GREGORIAN
METHOD:PUBLISH
X-WR-CALNAME:Dwór Skrzynki
X-ORIGINAL-URL:https://dworskrzynki.pl
X-WR-CALDESC:Wydarzenia dla Dwór Skrzynki
REFRESH-INTERVAL;VALUE=DURATION:PT1H
X-Robots-Tag:noindex
X-PUBLISHED-TTL:PT1H
BEGIN:VTIMEZONE
TZID:Europe/Warsaw
BEGIN:DAYLIGHT
TZOFFSETFROM:+0100
TZOFFSETTO:+0200
TZNAME:CEST
DTSTART:20250330T010000
END:DAYLIGHT
BEGIN:STANDARD
TZOFFSETFROM:+0200
TZOFFSETTO:+0100
TZNAME:CET
DTSTART:20251026T010000
END:STANDARD
END:VTIMEZONE
BEGIN:VEVENT
DTSTART;TZID=Europe/Warsaw:20250221T183000
DTEND;TZID=Europe/Warsaw:20250221T210000
DTSTAMP:20260421T163451
CREATED:20241116T130418Z
LAST-MODIFIED:20241220T094431Z
UID:7688-1740162600-1740171600@dworskrzynki.pl
SUMMARY:HOT LATIN JAZZ w gorących rytmach karnawału w Dworze Skrzynki
DESCRIPTION:UWAGA! \nSzanowni Państwo\, z  przyczyn losowych jesteśmy zmuszeni\nzmienić termin koncertu na 21 lutego 2025.\nBilety zachowują ważność.\nJeśli jednak nie odpowiada Państwu nowy termin prosimy o kontakt drogą mailową na kontakt@dworskrzynki.pl\,\naby uzyskać  zwrot pieniędzy za bilet. \nPrzepraszamy za niedogodności. \n  \nPrawdziwy karnawał bez salsy\, rumby\, samby? To oczywiście niemożliwe – także w Skrzynkach! \nW piątkowy wieczór 21 lutego o godz. 18.30 latynoskie rytmy rozgrzeją publiczność w Dworze Skrzynki. W gorących rytmach karnawału wystąpi HOT LATIN JAZZ. Zespół zagra w składzie Katarzyna Stroińska-Sierant – fortepian\, Jan Adamczewski – saksofony\, Waldemar Franczyk – perkusja oraz Bartek Werachowski – kontrabas. Artyści zaprezentują projekt składający się z najciekawszych standardów muzyki latynoamerykańskiej w oryginalnych\, jazzowych aranżacjach. Program koncertu wypełnią samby\, salsy\, calypso\, a także dyskretne brzmienia bossanovy i namiętnej rumby.  W programie znajdą się najsłynniejsze kompozycje „króla” bossanovy  A. C. Jobima\, kubańskiego artysty Paquito D’Rivera oraz melodii z różnych zakątków Ameryki Południowej. W muzyczną prezentację Hot Latin Jazz zostaną także wplecione autorskie kompozycje grających muzyków\, pochodzące z ich najnowszego albumu „JazzOdNova”. \nMuzyka latynoska to właściwie jedna wielka\, radosna i zaraźliwa ekspresja: rytmu\, wykonawców\, tancerzy. Jest tak charakterystyczna\, że każdy nawet mniej wyrobiony słuchacz pokojarzy z jakiego kontynentu pochodzą takie a nie inne rytmy. To swoisty melanż żywiołowej muzyki afrykańskiej z elementami zaczerpniętymi z bardziej wyrafinowanej muzyki hiszpańskiej i portugalskiej. Teoretycznie większość znanych dziś form muzycznych ma swoje korzenie na Kubie. To tam rodziło się calypso\, salsa\, czy rumba… Ale ich prawdziwa kariera zaczęła się w latach trzydziestych ubiegłego stulecia gdy rodził się swing\, a do tego do Nowego Jorku przypłynęli w poszukiwaniu pracy portorykańscy i kubańscy muzycy. Roztańczyli wtedy nie tylko swoją rumbą wytworne nowojorskie salony i hollywoodzkie plany filmowe – tak zaczął się boom na jazz latynoamerykański. I szczęśliwie jako osobny gatunek do dziś fascynuje kolejne pokolenia miłośników synkopy. \nWarto zatem zaplanować w dniu 21 lutego o godz. 18 30 wizytę w Dworze Skrzynki\, gdzie będzie się można przekonać\, że gorące rytmy\, porywające\, pełne ekspresji  improwizacje – to gwarancja wyśmienitej uczty muzycznej z HOT LATIN JAZZ – w sam raz na karnawałowy wieczór! Zapraszamy! \nBilety do nabycia w cenie 40 zł. on-line.\nWieczór zacznijmy jednak z półgodzinnym wyprzedzeniem\, ponieważ w trakcie koncertu serwis restauracji jest nieczynny.  Zachęcamy również do skorzystania z naszej oferty gastronomicznej po zakończeniu muzycznej części wieczoru. \n  \n  \n 
URL:https://dworskrzynki.pl/wydarzenie/hot-latin-jazz-w-goracych-rytmach-karnawalu-w-dworze-skrzynki/
ATTACH;FMTTYPE=image/jpeg:https://dworskrzynki.pl/wp-content/uploads/2024/11/wwwhotnowy.jpg
END:VEVENT
END:VCALENDAR