BEGIN:VCALENDAR
VERSION:2.0
PRODID:-//Dwór Skrzynki - ECPv6.8.1//NONSGML v1.0//EN
CALSCALE:GREGORIAN
METHOD:PUBLISH
X-ORIGINAL-URL:https://dworskrzynki.pl
X-WR-CALDESC:Wydarzenia dla Dwór Skrzynki
REFRESH-INTERVAL;VALUE=DURATION:PT1H
X-Robots-Tag:noindex
X-PUBLISHED-TTL:PT1H
BEGIN:VTIMEZONE
TZID:Europe/Warsaw
BEGIN:DAYLIGHT
TZOFFSETFROM:+0100
TZOFFSETTO:+0200
TZNAME:CEST
DTSTART:20250330T010000
END:DAYLIGHT
BEGIN:STANDARD
TZOFFSETFROM:+0200
TZOFFSETTO:+0100
TZNAME:CET
DTSTART:20251026T010000
END:STANDARD
END:VTIMEZONE
BEGIN:VEVENT
DTSTART;TZID=Europe/Warsaw:20250118T083000
DTEND;TZID=Europe/Warsaw:20250118T133000
DTSTAMP:20260423T092946
CREATED:20241213T111153Z
LAST-MODIFIED:20241213T111153Z
UID:7889-1737189000-1737207000@dworskrzynki.pl
SUMMARY:Styczniowe warsztaty arteterapeutyczne pn. „Czas na debiut. O lęku. / kolaż”
DESCRIPTION:Instytut Skrzynki zaprasza  na kolejne\, styczniowe warsztaty pn. „Czas na debiut. O lęku. / kolaż” (18 stycznia 2025 r.) w Dworze Skrzynki (gm. Stęszew). \nW ramach tego spotkania uczestniczki będą szukać odpowiedzi na pytania:\nKiedy się boję? Czy do lęku trzeba się „przyznawać”? Jak wygląda mój lęk\, jaką ma twarz\,\nbudowę\, kolor\, tembr głosu? Panie pracować będą nad wspierającymi i blokującymi je przekonaniami dotyczącymi lęku i nad ujęciem ich w formie kolażu. Dodatkowo wykorzystane zostaną elementy ćwiczeń zaczerpniętych z improwizacji teatralnej. \n\nSesja trwa 3 godziny: od 9:45 do 12:45\nGrupa liczyć będzie maksymalnie 12 osób\, czyli decyduje kolejność zgłoszeń.\nOdpłatność:  50 zł od osoby\nWiek: od 13 do 83 lat\, czyli w praktyce nie ma znaczenia – liczą się przede wszystkim chęci!\n\nZgłoszenia prosimy kierować poprzez stronę: www.dworskrzynki.pl lub na adres: kontakt@instytutskrzynki.pl \nKim jest Marta Szostak  prowadzącą warsztaty? \nJest  absolwentką arteterapii na Uniwersytecie Medycznym im. Karola Marcinkowskiego oraz muzykologii\, kulturoznawstwa i studiów z zakresu rozwoju publiczności na Uniwersytecie im. Adama Mickiewicza. Stale współpracuje z poznańskimi NGO-sami\, w tym Fundacją Odzyskani oraz Fundacją im. Julii Woykowskiej\, w których prowadzi warsztaty arteterapeutyczne przeznaczone głównie (choć nie jedynie) dla młodzieży i tzw. młodych dorosłych. W poznańskiej Scenie Roboczej – Społecznym Miejscu Kultury zaprojektowała i przeprowadziła pilotażowe warsztaty towarzyszące premierze jednego ze spektakli. Regularnie współtworzy działania edukacyjne organizowane przez Teatr Muzyczny w Łodzi. Arteterapia to dla niej podróż przez sztukę w głąb siebie; to szansa na usłyszenie swojego głosu oraz zaobserwowanie i nazwanie emocji\, to przestrzeń do rozwoju i czas na refleksję\, którą wspiera swobodne twórcze działanie. To proces\, w którym sztuka jest towarzyszem\, a człowiek – celem. \nSerdecznie zapraszamy! \nWarsztaty arteterapeutyczne pn. „Czas na debiut. O lęku. / kolaż” \n18.01.2025 r. g. 9.45 \nDwór Skrzynki\, pl. Parkowy 1\, 62-060 Skrzynki\, gm. Stęszew \nwww.dworskrzynki.pl
URL:https://dworskrzynki.pl/wydarzenie/styczniowe-warsztaty-arteterapeutyczne-pn-czas-na-debiut-o-leku-kolaz/
ATTACH;FMTTYPE=image/jpeg:https://dworskrzynki.pl/wp-content/uploads/2024/12/arte-18-01-2025-fb-i-strona.jpg
END:VEVENT
BEGIN:VEVENT
DTSTART;TZID=Europe/Warsaw:20250118T180000
DTEND;TZID=Europe/Warsaw:20250118T200000
DTSTAMP:20260423T092946
CREATED:20241209T134955Z
LAST-MODIFIED:20241209T134955Z
UID:7869-1737223200-1737230400@dworskrzynki.pl
SUMMARY:Duet WSPAK w koncercie „Radist z neba”\, czyli muzyka Kresów Wschodnich  w Dworze Skrzynki
DESCRIPTION:Wspak czyli jak? Wspak czyli robić coś w odwrotnej kolejności niż zazwyczaj\, w językoznawstwie czytać palindromy czyli od końca… A może raczej wspak\, bo zaśpiewać odcinając się od komercyjnej\, popularnej kolędowo-pastorałkowej wszechpanującej wokół świątecznej sztampy… i zagrać na wspaku\, czyli dzikim kuzynie wiolonczeli\, który lubi jej dźwięk i siłę\, ale szuka innej barwy… \nTak czy siak …WSPAK zagra i zaśpiewa w Dworze Skrzynki 18 stycznia 2025 o 18.00 i przeniesie słuchaczy w klimaty Kresów Wschodnich.  „Radist z neba” to przepiękny\, drugi już album artystek\, które w swoim rodzinnym Białymstoku w 2018 roku założyły duet WSPAK.   Adrianna Kafel-Woźniak i  Aleksandra Pura-Cidyło  z niezwykłym wyczuciem i smakiem łączą domową tradycję\, wschodni (łemkowski\, ukraiński) i polski folklor z akademickim wykształceniem muzycznym i nowoczesnym aranżem. Z ich przyjaźni\, z ich fascynacji i szacunku dla tradycji\, także tradycji rodzinnej wniesionej przez ich mężów (Łemków) zrodził się pomysł na zupełnie inne traktowanie muzyki pielęgnowanej od pokoleń na Podlasiu i Łemkowszczyźnie.  Są zachwycająco szczere w swoim śpiewaniu i graniu i dlatego tak szybko zjednują sobie słuchaczy. \nAdrianna Kafel-Woźniak\, która śpiewa i gra miedzy innymi na wspaku i fideli płockiej jest absolwentką Akademii Muzycznej w Krakowie w klasie wiolonczeli\, fideli kolanowych i wiolonczeli barokowej. Występowała jako solistka\, kameralistka i muzyk orkiestrowy na wielu koncertach w kraju i za granicą. Jest laureatką wielu konkursów muzycznych. \nAleksandra Pura-Cidyło\, która śpiewa i gra na skrzypcach ukończyła Akademię Muzyczna w Poznaniu. Ukończyła Wydział Dyrygentury Chóralnej Edukacji Muzycznej i Muzyki Kościelnej oraz wokalistykę jazzową w klasie prof. Janusza Szroma. Jest laureatką wielu konkursów. \nDwie\, piękne młode artystki ubrane w malownicze stroje przyniosą do dworu Skrzynki  „Radist z neba /  Radość z nieba” i pomogą zrozumieć czym jest radość wspólnego muzykowania. Zabrzmią znakomicie zaaranżowane i wykonane tradycyjne pieśni i kolędy polskie\, łemkowskie i ukraińskie – między innymi  „Dobryj weczir tobi”\, „Oj\, na mory\, mory”\, „Nowa radost stała” ale też popularne kolędy ”Cicha noc” i „Radujtiesia wsi ludije”. \nZapraszamy 18 stycznia o 18:00. \nBilety w cenie 45 zł  do kupienia on-line.\nSpotkanie zacznijmy jak zwykle z półgodzinnym wyprzedzeniem\, ponieważ w trakcie koncertu serwis restauracji jest nieczynny. Zapraszamy do skorzystania z oferty gastronomicznej restauracji Dworu Skrzynki po koncercie. \n  \n 
URL:https://dworskrzynki.pl/wydarzenie/duet-wspak-w-koncercie-radist-z-neba-czyli-muzyka-kresow-wschodnich-w-dworze-skrzynki/
ATTACH;FMTTYPE=image/jpeg:https://dworskrzynki.pl/wp-content/uploads/2024/12/www-19.jpg
END:VEVENT
END:VCALENDAR