BEGIN:VCALENDAR
VERSION:2.0
PRODID:-//Dwór Skrzynki - ECPv6.8.1//NONSGML v1.0//EN
CALSCALE:GREGORIAN
METHOD:PUBLISH
X-ORIGINAL-URL:https://dworskrzynki.pl
X-WR-CALDESC:Wydarzenia dla Dwór Skrzynki
REFRESH-INTERVAL;VALUE=DURATION:PT1H
X-Robots-Tag:noindex
X-PUBLISHED-TTL:PT1H
BEGIN:VTIMEZONE
TZID:Europe/Warsaw
BEGIN:DAYLIGHT
TZOFFSETFROM:+0100
TZOFFSETTO:+0200
TZNAME:CEST
DTSTART:20250330T010000
END:DAYLIGHT
BEGIN:STANDARD
TZOFFSETFROM:+0200
TZOFFSETTO:+0100
TZNAME:CET
DTSTART:20251026T010000
END:STANDARD
END:VTIMEZONE
BEGIN:VEVENT
DTSTART;TZID=Europe/Warsaw:20250114T193000
DTEND;TZID=Europe/Warsaw:20250114T210000
DTSTAMP:20260423T054010
CREATED:20250111T124311Z
LAST-MODIFIED:20250111T124319Z
UID:8224-1736883000-1736888400@dworskrzynki.pl
SUMMARY:II Koncert finałowy warsztatów gitarowych Łukasza Kuropaczewskiego
DESCRIPTION:9 stycznia rozpoczęły się zajęcia warsztatowe II grupy studentów i absolwentów uczelni muzycznych\, którzy przyjechali do Skrzynek\, by doskonalić swoje umiejętności pod okiem naszego znakomitego gitarzysty Łukasza Kuropaczewskiego. \nPrzez tydzień skupiają się na grze\, ćwiczeniach i wymianie doświadczeń. To bardzo pracowite dni. Jak podkreśla Łukasz Kuropaczewski prowadzący warsztaty – tak intensywne zajęcia bardzo szybko przynoszą widoczny efekt. Jak będzie tym razem? \nMożna się będzie o tym przekonać w czasie II koncertu finałowego\, na który zapraszamy do Dworu Skrzynki \n14 stycznia o godzinie 19:30.\nWstęp wolny! Wymagana jest jednak rezerwacja miejscówek – prosimy wysłać zgłoszenie na kontakt@dworskrzynki.pl. \nZapraszamy!
URL:https://dworskrzynki.pl/wydarzenie/ii-koncert-finalowy-warsztatow-gitarowych-lukasza-kuropaczewskiego/
ATTACH;FMTTYPE=image/jpeg:https://dworskrzynki.pl/wp-content/uploads/2025/01/II-koncert-www.jpg
END:VEVENT
END:VCALENDAR