BEGIN:VCALENDAR
VERSION:2.0
PRODID:-//Dwór Skrzynki - ECPv6.8.1//NONSGML v1.0//EN
CALSCALE:GREGORIAN
METHOD:PUBLISH
X-WR-CALNAME:Dwór Skrzynki
X-ORIGINAL-URL:https://dworskrzynki.pl
X-WR-CALDESC:Wydarzenia dla Dwór Skrzynki
REFRESH-INTERVAL;VALUE=DURATION:PT1H
X-Robots-Tag:noindex
X-PUBLISHED-TTL:PT1H
BEGIN:VTIMEZONE
TZID:Europe/Warsaw
BEGIN:DAYLIGHT
TZOFFSETFROM:+0100
TZOFFSETTO:+0200
TZNAME:CEST
DTSTART:20250330T010000
END:DAYLIGHT
BEGIN:STANDARD
TZOFFSETFROM:+0200
TZOFFSETTO:+0100
TZNAME:CET
DTSTART:20251026T010000
END:STANDARD
END:VTIMEZONE
BEGIN:VEVENT
DTSTART;TZID=Europe/Warsaw:20250104T170000
DTEND;TZID=Europe/Warsaw:20250104T200000
DTSTAMP:20260423T054637
CREATED:20241209T102055Z
LAST-MODIFIED:20250304T081633Z
UID:7850-1736010000-1736020800@dworskrzynki.pl
SUMMARY:„Kolory Deszcza …Birma” – wystawa fotografii i spotkanie autorskie z Krzysztofem Deszczyńskim w Galerii Skrzynki
DESCRIPTION:4 stycznia 2025 roku w Galerii Skrzynki (Skrzynki; gm. Stęszew; pl. Parkowy 1) wyruszymy w egzotyczną podróż do kraju\, o którym większość naszych rodaków nie wie nic lub bardzo niewiele. \nDzięki Krzysztofowi Deszczyńskiemu i jego wspaniałym fotografiom między innymi nagradzanym przez tak prestiżowe wydawnictwo jak National Geografic\, odkryjemy cząstkę tajemnic Birmy. \nBirma\, a raczej teraz Mjanma ( junta wojskowa rządząca krajem przez dziesięciolecia chciała pozbyć się starej nazwy o kolonialnych korzeniach) leży w Azji Południowo-Wschodniej nad Zatoką Bengalską i Morzem Andamańskim. Graniczy z Chinami\, Tajlandią\, Indiami\, Laosem i Bangladeszem. \nWarto przypomnieć\, że właśnie w dniu 4 stycznia przypada święto wyzwolenia kraju spod kolonialnego panowania Wielkiej Brytanii. \nAutor wystawy był w Birmie/Mjanmie wielokrotnie\, bo jak sam o sobie mówi „jest uzależniony od Azji”. Zjeździł ją dokładnie\, podróżując zawsze z nieodłącznym aparatem i reporterskim zmysłem obserwacji. Takie są też jego fotografie – skupione na ludziach\, ich emocjach\, kontekstach etnicznych i kulturowych. Są na pewno zapiskami z podróży\, ale są też swoistym egzotycznym i chwilami intymnym dziennikiem spotkań z drugim człowiekiem. \nDlaczego tak?  Bo – taki jest „Deszczu” i tak się przedstawia. \n…”Krzysztof Deszczyński – aktor\, fotograf\, scenarzysta i reżyser; manager kultury. Zodiakalny Koziorożec. Podróżnik. Wydał cztery książki: ”Panie Smoleń ! – co tam słychać u Laskowika?”\, „Jubileusz czyli 50 LAT WĄTROBY Bohdana SMOLENIA”\, „Kolory Deszcza… Birma”\, „Kolory Deszcza… kuglarze”.  Jest autorem kultowego programu kabaretowego „6 dni z życia kolonisty” z udziałem Bohdana Smolenia. Napisał i wyreżyserował wiele widowisk estradowo-telewizyjnych z cyklu „Dziecko potrafi”. Dyrektor artystyczny Estrady Poznańskiej. Współwłaściciel firmy Smoleń i Deszczyński. Obecnie prezes Stowarzyszenia Zostań Gwiazdą Kabaretu”… \nWernisaż wystawy „Kolory Deszcza… Birma”  rozpocznie się 4 stycznia o godzinie 17.00  w Galerii Skrzynki\, która znajduje się w przyziemiu Dworu Skrzynki. \nPo wernisażu odbędzie się spotkanie autorskie\, podczas którego Krzysztof Deszczyński opowie o swojej fascynacji Birmą i licznych podróżach po tym niezwykłym kraju\, a także i magii zdjęć\, które wykonał. \nWstęp wolny! \nZapraszamy wszystkich chętnych: będzie nie tylko okazja do prześledzenia azjatyckiej wyprawy\, ale przede wszystkim do rozmowy z autorem fotografii. \n  \n  \n  \n  \n  \n 
URL:https://dworskrzynki.pl/wydarzenie/kolory-deszcza-birma-wystawa-fotografii-i-spotkanie-autorskie-z-krzysztofem-deszczynskim-w-galerii-skrzynki/
ATTACH;FMTTYPE=image/jpeg:https://dworskrzynki.pl/wp-content/uploads/2024/12/Birma-na-www.jpg
END:VEVENT
END:VCALENDAR