BEGIN:VCALENDAR
VERSION:2.0
PRODID:-//Dwór Skrzynki - ECPv6.8.1//NONSGML v1.0//EN
CALSCALE:GREGORIAN
METHOD:PUBLISH
X-WR-CALNAME:Dwór Skrzynki
X-ORIGINAL-URL:https://dworskrzynki.pl
X-WR-CALDESC:Wydarzenia dla Dwór Skrzynki
REFRESH-INTERVAL;VALUE=DURATION:PT1H
X-Robots-Tag:noindex
X-PUBLISHED-TTL:PT1H
BEGIN:VTIMEZONE
TZID:Europe/Warsaw
BEGIN:DAYLIGHT
TZOFFSETFROM:+0100
TZOFFSETTO:+0200
TZNAME:CEST
DTSTART:20240331T010000
END:DAYLIGHT
BEGIN:STANDARD
TZOFFSETFROM:+0200
TZOFFSETTO:+0100
TZNAME:CET
DTSTART:20241027T010000
END:STANDARD
END:VTIMEZONE
BEGIN:VEVENT
DTSTART;TZID=Europe/Warsaw:20241123T093000
DTEND;TZID=Europe/Warsaw:20241123T123000
DTSTAMP:20260425T142350
CREATED:20241104T081636Z
LAST-MODIFIED:20241104T081819Z
UID:7339-1732354200-1732365000@dworskrzynki.pl
SUMMARY:Listopadowe warsztaty arteterapeutyczne dla kobiet w Dworze Skrzynki. W poszukiwaniu Muzy. O inspiracji/ obraz
DESCRIPTION:Instytut Skrzynki ponownie zaprasza na cykl warsztatów autoterapeutycznych dla kobiet prowadzonych przez Martę Szostak w Dworze Skrzynki (gm. Stęszew). \nNajbliższe spotkanie pn. W poszukiwaniu Muzy. O inspiracji /obraz odbędzie się 23 listopada (sobota) w godz. 9:45 – 12:25. \nWielkoformatowy obraz namalowany bez użycia pędzli – w taki sposób odbywać się będzie spotkanie poświęcone inspiracji. W czym ją znajduję? Co sprawia\, że czuję\, że mogę tworzyć? Co napędza mnie do działania i dlaczego akurat to? Kontaktując się ze swoim wewnętrznym dzieckiem poprzez wykorzystywanie dłoni do bezpośredniego kontaktu z farbami\, uczestniczki i uczestnicy namalują swoją wizję inspiracji. \nWarsztaty odbywają się zawsze w niewielkiej\, max. 12-osobowej grupie. Koszt zajęć wynosi 50 złotych od osoby. Zgłoszenia prosimy kierować poprzez stronę: www.dworskrzynki.pl lub na adres: kontakt@instytutskrzynki.pl. Warsztaty kierowane są do kobiet w każdym wieku\, można zapisywać się także z córkami\, wnuczkami itp. \nMarta Szostak\, prowadząca warsztaty\, jest absolwentką arteterapii na Uniwersytecie Medycznym im. Karola Marcinkowskiego oraz muzykologii\, kulturoznawstwa i studiów z zakresu rozwoju publiczności na Uniwersytecie im. Adama Mickiewicza. Stale współpracuje z poznańskimi NGOsami\, w tym Fundacją Odzyskani oraz Fundacją im. Julii Woykowskiej\, w których prowadzi warsztaty arteterapeutyczne przeznaczone głównie (choć nie jedynie) dla młodzieży i tzw. młodych dorosłych. W poznańskiej Scenie Roboczej – Społecznym Miejscu Kultury zaprojektowała i przeprowadziła pilotażowe warsztaty towarzyszące premierze jednego ze spektakli. Regularnie współtworzy działania edukacyjne organizowane przez Teatr Muzyczny w Łodzi. Arteterapia to dla niej podróż przez sztukę w głąb siebie; to szansa na usłyszenie swojego głosu oraz zaobserwowanie i nazwanie emocji\, to przestrzeń do rozwoju i czas na refleksję\, którą wspiera swobodne twórcze działanie. To proces\, w którym sztuka jest towarzyszem\, a człowiek – celem. \nW kolejnych miesiącach planowane są kolejne odsłony warsztatów\, zachęcamy do obserwowania strony internetowej Dworu oraz mediów społecznościowych\, gdzie znaleźć można informacje o wszystkich planowanych w najbliższym czasie wydarzeniach.
URL:https://dworskrzynki.pl/wydarzenie/listopadowe-warsztaty-arteterapeutyczne-dla-kobiet-w-dworze-skrzynki-w-poszukiwaniu-muzy-o-inspiracji-obraz/
ATTACH;FMTTYPE=image/jpeg:https://dworskrzynki.pl/wp-content/uploads/2024/11/arte-23-11-2024-fb-i-strona.jpg
END:VEVENT
END:VCALENDAR