BEGIN:VCALENDAR
VERSION:2.0
PRODID:-//Dwór Skrzynki - ECPv6.8.1//NONSGML v1.0//EN
CALSCALE:GREGORIAN
METHOD:PUBLISH
X-ORIGINAL-URL:https://dworskrzynki.pl
X-WR-CALDESC:Wydarzenia dla Dwór Skrzynki
REFRESH-INTERVAL;VALUE=DURATION:PT1H
X-Robots-Tag:noindex
X-PUBLISHED-TTL:PT1H
BEGIN:VTIMEZONE
TZID:Europe/Warsaw
BEGIN:DAYLIGHT
TZOFFSETFROM:+0100
TZOFFSETTO:+0200
TZNAME:CEST
DTSTART:20240331T010000
END:DAYLIGHT
BEGIN:STANDARD
TZOFFSETFROM:+0200
TZOFFSETTO:+0100
TZNAME:CET
DTSTART:20241027T010000
END:STANDARD
END:VTIMEZONE
BEGIN:VEVENT
DTSTART;TZID=Europe/Warsaw:20241122T190000
DTEND;TZID=Europe/Warsaw:20241122T210000
DTSTAMP:20260425T141308
CREATED:20241004T144953Z
LAST-MODIFIED:20241004T144953Z
UID:7134-1732302000-1732309200@dworskrzynki.pl
SUMMARY:Koncert Zespołu „Kilka Czułości” w Skrzynkach
DESCRIPTION:Są bez wątpienia muzycznym odkryciem roku! Będzie ich można usłyszeć w Dworze Skrzynki 22 listopada o godzinie 19:00. To z pewnością będzie niezwykły\, czarowny wieczór pełen nie tylko „Kilku czułości”. \nZadebiutowali niecałe dwa lata temu a już bardzo silnie zaznaczyli swoja obecność na poetyckiej scenie muzycznej.  Czarują różnorodnymi\, oryginalnymi aranżacjami\, pięknym wokalem Anny Kamińskiej założycielki zespołu. \nPisza o sobie tak: czułość to taka jednostka\, której każdy potrzebuje w różnej ilości. Potrzebujemy czułości zarówno rozdawać\, jak i przyjmować. Nie jest to proste. Z jakichś powodów boimy się rozmawiać o uczuciach. Ale nie dzisiaj. Dzisiaj chcielibyśmy oddać w Wasze ręce kilka czułości. (…) Zespół stworzyła wokalistka i songwriterka Anna Kamińska. Swoją emocjonalność zamienia w piosenki przy dźwiękach pianina\, ukulele i autoharfy. Jej teksty i melodie przez wiele lat spokojnie dojrzewały\, aby w końcu zespolić się z aranżacyjnymi pomysłami instrumentalisty Emila Smardzewskiego. Całość dopełniają dźwięki wiolonczelisty Filipa Turkowskiego oraz rytmy perkusisty\, Adriana Ciesielskiego. \nZdobyli m.in. I miejsce na Festiwalu im. Piotra Skrzyneckiego w Mińsku Mazowieckim oraz I miejsce na Międzynarodowym Festiwalu Piosenki Szlakiem Bardów w Warszawie\, zagrali podczas Festiwalu Kocham Cię w Kluczborku czy Festiwalu Filmów Komediowych w Lubomierzu. Wystąpili również w Piwnicy pod Baranami w Krakowie. \nDebiutancka płyta zatytułowana była „Mięta” i była poetycką\, różnorodną opowieścią o miłości. Teraz jest już „Lawenda”. Album składa się z dziewięciu lawendowych opowieści\, które wspólnie tworzą większą historię o poznawaniu siebie. A całość w folkowych brzmieniach z domieszką wszystkiego\, co gra w sercach wykonawców – jazzu\, bluesa\, rock&rolla\, piosenki literackiej. \nW Skrzynkach zagrają: \nAnna Kamińska – wokal\, ukulele\, pianino\, autoharfa\, instrumenty perkusyjne\nEmil Smardzewski – pianino\, gitara\, wokal\, instrumenty perkusyjne\nFilip Turkowski – wiolonczela\, wokal\, instrumenty perkusyjne\nMikołaj Główczyński – kontrabas\, bas\nJakub Jugo – perkusja\, cajon\, wokal \nBilety w cenie 40 zł do nabycia on-line\nKoncert rozpoczyna się o 19:00\, ale ze względu na fakt\, że w trakcie koncertu serwis restauracji jest nieczynny\, prosimy o przybycie z co najmniej półgodzinnym wyprzedzeniem.  Zachęcamy również do skorzystania z naszej oferty gastronomicznej po zakończeniu muzycznej części wieczoru. \nZapraszamy! \n 
URL:https://dworskrzynki.pl/wydarzenie/koncert-zespolu-kilka-czulosci-w-skrzynkach/
ATTACH;FMTTYPE=image/jpeg:https://dworskrzynki.pl/wp-content/uploads/2024/10/www-1.jpg
END:VEVENT
END:VCALENDAR