BEGIN:VCALENDAR
VERSION:2.0
PRODID:-//Dwór Skrzynki - ECPv6.8.1//NONSGML v1.0//EN
CALSCALE:GREGORIAN
METHOD:PUBLISH
X-WR-CALNAME:Dwór Skrzynki
X-ORIGINAL-URL:https://dworskrzynki.pl
X-WR-CALDESC:Wydarzenia dla Dwór Skrzynki
REFRESH-INTERVAL;VALUE=DURATION:PT1H
X-Robots-Tag:noindex
X-PUBLISHED-TTL:PT1H
BEGIN:VTIMEZONE
TZID:Europe/Warsaw
BEGIN:DAYLIGHT
TZOFFSETFROM:+0100
TZOFFSETTO:+0200
TZNAME:CEST
DTSTART:20240331T010000
END:DAYLIGHT
BEGIN:STANDARD
TZOFFSETFROM:+0200
TZOFFSETTO:+0100
TZNAME:CET
DTSTART:20241027T010000
END:STANDARD
END:VTIMEZONE
BEGIN:VEVENT
DTSTART;TZID=Europe/Warsaw:20241109T100000
DTEND;TZID=Europe/Warsaw:20241109T140000
DTSTAMP:20260425T142146
CREATED:20241023T082257Z
LAST-MODIFIED:20241023T082257Z
UID:7274-1731146400-1731160800@dworskrzynki.pl
SUMMARY:Warsztaty grzyboznawcze „Grzyby w kuchni” w Dworze Skrzynki – edycja listopadowa
DESCRIPTION:Zapraszamy w sobotę\, 9 listopada do Dworu Skrzynki (gm. Stęszew)\, gdzie w godz. 10.00 – 14.00 odbywać się będą warsztaty grzyboznawcze\, które poprowadzi Iza Urbanowicz – grzyboznawca\, niestrudzona edukatorka wiedzy mykologicznej i autorka wielu publikacji popularyzujących grzyby. Od lat pisze o grzybach\, tworzy ich profile w mediach społecznościowych\, tropi i fotografuje. Po prostu dokumentuje życie Fungi\, czyli grzybów – trzeciego po Faunie i Florze królestwa. Udowadnia przede wszystkim\, że grzyby jadalne to nie tylko borowik szlachetny i koźlarz babka. Więcej informacji na profilu: https://www.facebook.com/TrzecieKrolestwo. \nPodczas warsztatów nie tylko zdradzi tajemnice dobrego grzybobrania i rozpoznawania gatunków\, ale także kulinarnego zastosowania grzybów. Na zajęciach\, pod okiem ekspertki\, uczestnicy przygotują zaprawione grzyby w słoiku i będą mogli zabrać je ze sobą\, by dzielić się zdobytą wiedzą oraz przysmakiem z bliskimi. \nKoszt wynosi 120 złotych od osoby  \nw cenie między innymi: grzyby\, przyprawy\, rękawiczki\, serwetki\, naczynia\, sprzęt do gotowania i in. \nZgłoszenia prosimy kierować poprzez stronę: www.dworskrzynki.pl lub na adres: kontakt@instytutskrzynki.pl. \nInformacja telefoniczna: +48 690 321 169. \nSerdecznie zapraszamy!
URL:https://dworskrzynki.pl/wydarzenie/warsztaty-grzyboznawcze-grzyby-w-kuchni-w-dworze-skrzynki-edycja-listopadowa/
ATTACH;FMTTYPE=image/jpeg:https://dworskrzynki.pl/wp-content/uploads/2024/10/warsztaty-grzyby-3-fb-i-strona.jpg
END:VEVENT
BEGIN:VEVENT
DTSTART;TZID=Europe/Warsaw:20241109T130000
DTEND;TZID=Europe/Warsaw:20241109T130000
DTSTAMP:20260425T142146
CREATED:20241104T085543Z
LAST-MODIFIED:20241104T090034Z
UID:7349-1731157200-1731157200@dworskrzynki.pl
SUMMARY:ALLA POLACCA koncert Ach Duo
DESCRIPTION:W Poznaniu i Wielkopolsce po raz III odbędzie się Festiwal I.J. Paderewskiego. Recitale i koncerty kameralne\, spektakle\, spotkania i prelekcje stworzą miedzy 7 a 12 listopada bardzo bogaty program artystyczny. \nW ramach Festiwalu zapraszamy  9 listopada o godz. 13:00 do Dworu Skrzynki. \nW sobotnie wczesne popołudnie  wysłuchamy niezwykłego koncertu w wykonaniu Ach Duo.  Współbrzmiące harfa i gitara klasyczna\, w dodatku w polskim repertuarze – to będzie niezwykła gratka dla słuchaczy. W programie między innymi utwory Chopina i oczywiście Paderewskiego. \nAch Duo to unikatowy duet tworzony przez gitarzystę Aleksandra Pankowskiego vel Jankowskiego\, absolwenta Akademii Muzyczej w Katowicach oraz harfistkę Julię Łopuszyńską\, absolwentkę Zürcher Hochschule der Künste oraz Hochschule fur Musik in Basel (Szwajcaria). \nDlaczego Ach Duo? Przy wyborze nazwy duetu\, artyści zainspirowali się włoskimi nazwami instrumentów\, na których grają – harfa (wł. arpa) oraz gitara (wł. chitarra). Od początku swojej działalności duet został doceniony na wielu ogólnopolskich i międzynarodowych festiwalach. W 2021 roku zespół wydał swoją debiutancką płytę pt. „Alla Polacca”\, zawierającą polską muzykę napisaną w oryginale oraz opracowaną na duet instrumentalny gitara-harfa. To podwójny debiut\, bo w polskiej fonografii jest to  pierwsza płyta nagrana przez tego rodzaju zespół. \nWstęp na koncert jest wolny\, ale z racji ograniczonej ilości miejsc na widowni prosimy o potwierdzenie chęci przybycia do 8.11 na adres kontakt@dworskrzynki.pl. Gwarancją rezerwacji miejsca jest otrzymanie maila zwrotnego. \nWięcej informacji na temat III Festiwalu I.J. Paderewskiego na www.bonafide.org.pl \nZapraszamy!
URL:https://dworskrzynki.pl/wydarzenie/alla-polacca-koncert-ach-duo/
ATTACH;FMTTYPE=image/jpeg:https://dworskrzynki.pl/wp-content/uploads/2024/10/alla-pollaca-na-www.jpg
END:VEVENT
BEGIN:VEVENT
DTSTART;TZID=Europe/Warsaw:20241109T130000
DTEND;TZID=Europe/Warsaw:20241109T143000
DTSTAMP:20260425T142146
CREATED:20241022T162453Z
LAST-MODIFIED:20241022T162453Z
UID:7269-1731157200-1731162600@dworskrzynki.pl
SUMMARY:Wyjątkowy duet harfy i gitary zabrzmi w Dworze Skrzynki
DESCRIPTION:W Poznaniu i Wielkopolsce po raz III odbędzie się Festiwal I.J. Paderewskiego. Recitale i koncerty kameralne\, spektakle\, spotkania i prelekcje stworzą miedzy 7 a 12 listopada bardzo bogaty program artystyczny. \nW ramach Festiwalu zapraszamy  9 listopada o godz. 13:00 do Dworu Skrzynki. \nW sobotnie wczesne popołudnie  wysłuchamy niezwykłego koncertu w wykonaniu Ach Duo.  Współbrzmiące harfa i gitara klasyczna\, w dodatku w polskim repertuarze – to będzie niezwykła gratka dla słuchaczy. W programie między innymi utwory Chopina i oczywiście Paderewskiego. \nAch Duo to unikatowy duet tworzony przez gitarzystę Aleksandra Pankowskiego vel Jankowskiego\, absolwenta Akademii Muzyczej w Katowicach oraz harfistkę Julię Łopuszyńską\, absolwentkę Zürcher Hochschule der Künste oraz Hochschule fur Musik in Basel (Szwajcaria). \nDlaczego Ach Duo? Przy wyborze nazwy duetu\, artyści zainspirowali się włoskimi nazwami instrumentów\, na których grają – harfa (wł. arpa) oraz gitara (wł. chitarra). Od początku swojej działalności duet został doceniony na wielu ogólnopolskich i międzynarodowych festiwalach. W 2021 roku zespół wydał swoją debiutancką płytę pt. „Alla Polacca”\, zawierającą polską muzykę napisaną w oryginale oraz opracowaną na duet instrumentalny gitara-harfa. To podwójny debiut\, bo w polskiej fonografii jest to  pierwsza płyta nagrana przez tego rodzaju zespół. \nWstęp na koncert jest wolny\, ale z racji ograniczonej ilości miejsc na widowni prosimy o potwierdzenie chęci przybycia do 8.11 na adres kontakt@dworskrzynki.pl. Gwarancją rezerwacji miejsca jest otrzymanie maila zwrotnego.\nWięcej informacji na temat III Festiwalu I.J. Paderewskiego na www.bonafide.org.pl \nZapraszamy!
URL:https://dworskrzynki.pl/wydarzenie/wyjatkowy-duet-harfy-i-gitary-zabrzmi-w-dworze-skrzynki/
ATTACH;FMTTYPE=image/jpeg:https://dworskrzynki.pl/wp-content/uploads/2024/10/alla-pollaca-na-www.jpg
END:VEVENT
END:VCALENDAR