BEGIN:VCALENDAR
VERSION:2.0
PRODID:-//Dwór Skrzynki - ECPv6.8.1//NONSGML v1.0//EN
CALSCALE:GREGORIAN
METHOD:PUBLISH
X-WR-CALNAME:Dwór Skrzynki
X-ORIGINAL-URL:https://dworskrzynki.pl
X-WR-CALDESC:Wydarzenia dla Dwór Skrzynki
REFRESH-INTERVAL;VALUE=DURATION:PT1H
X-Robots-Tag:noindex
X-PUBLISHED-TTL:PT1H
BEGIN:VTIMEZONE
TZID:Europe/Warsaw
BEGIN:DAYLIGHT
TZOFFSETFROM:+0100
TZOFFSETTO:+0200
TZNAME:CEST
DTSTART:20240331T010000
END:DAYLIGHT
BEGIN:STANDARD
TZOFFSETFROM:+0200
TZOFFSETTO:+0100
TZNAME:CET
DTSTART:20241027T010000
END:STANDARD
END:VTIMEZONE
BEGIN:VEVENT
DTSTART;TZID=Europe/Warsaw:20241006T173000
DTEND;TZID=Europe/Warsaw:20241006T200000
DTSTAMP:20260425T154316
CREATED:20240930T134924Z
LAST-MODIFIED:20240930T134924Z
UID:7058-1728235800-1728244800@dworskrzynki.pl
SUMMARY:Weekend Seniora w Skrzynkach – Koncert „Jak za dawnych lat”.
DESCRIPTION:W niedzielę 6 października zapraszamy wszystkich Seniorów na godz. 17:30 do Dworu Skrzynki (gm. Stęszew\, pow. poznański)  na KONCERT „Jak za dawnych lat”\, w którym będzie można usłyszeć znane i lubiane piosenki. \nZaśpiewa znakomita wokalistka Marzena Scholz\, a towarzyszyć jej będzie na instrumentach klawiszowych Michał Szóstek. Wstęp na koncert jest wolny – prosimy jedynie o potwierdzenie obecności mailowo pod adresem kontakt@dworskrzynki.pl \nMarzena Scholz jest absolwentką Akademii Muzycznej w Poznaniu. Występowała i występuje z największymi artystami polskiej muzyki rozrywkowej: Hanną Banaszak\, Mieczysławem Szcześniakiemoraz  nieodżałowanymi Krzysztofem Krawczykiem i Wojciechem Kordą. Śpiewała z zespołem Bolter i Trubadurami. Nagrała też solowa płytę „Słowa\, gesty”. Bardzo ceni stare\, dobre kompozycje i piosenki przedwojennej Warszawy. Tak narodził się projekt koncertu „W starym kinie” \nMichał Szóstek – pianista\, instrumentalista klawiszowy zakochany w jazzie i dobrze znany wielbicielom muzyki synkopowanej. Już w latach 70-tych ubiegłego wieku grywał w różnych formacjach. Występował z Haliną Żytkowiak i Barbarą Łuczak i przez wiele lat akompaniował Hannie Banaszak. Grywał tez sporo zagranicą \, a jako Grupa Szóstka promował kompozycje Krzysztofa Komedy. Pracował tez z gwiazdami kabaretu – Jerzym Pietrzakiem i Krzysztofem Daukszewiczem. Wieloletnia współpraca z redaktorem muzycznym Krzysztofem Wodniczakiem w Jeżyckim Centrum Kultury zaowocowała realizacją festiwali i warsztatów Andrzeja Rybińskiego oraz Faridy. Jest też doskonale znany bywalcom Dworu Skrzynki z coniedzielnych mini recitali. \nBędzie zatem w Skrzynkach nastrojowo\, nieco jazzowo ale przede wszystkim wybrzmią doskonale znane piosenki. \nZapraszamy serdecznie! \nKoncert rozpoczyna się o 17:30\, ale ze względu na fakt\, że w trakcie koncertu serwis restauracji jest nieczynny\, prosimy o przybycie z co najmniej półgodzinnym wyprzedzeniem.  Zachęcamy również do skorzystania z naszej oferty gastronomicznej po zakończeniu muzycznej części wieczoru.
URL:https://dworskrzynki.pl/wydarzenie/weekend-seniora-w-skrzynkach-koncert-jak-za-dawnych-lat/
ATTACH;FMTTYPE=image/jpeg:https://dworskrzynki.pl/wp-content/uploads/2024/09/Koncert-na-www.jpg
END:VEVENT
END:VCALENDAR