BEGIN:VCALENDAR
VERSION:2.0
PRODID:-//Dwór Skrzynki - ECPv6.8.1//NONSGML v1.0//EN
CALSCALE:GREGORIAN
METHOD:PUBLISH
X-WR-CALNAME:Dwór Skrzynki
X-ORIGINAL-URL:https://dworskrzynki.pl
X-WR-CALDESC:Wydarzenia dla Dwór Skrzynki
REFRESH-INTERVAL;VALUE=DURATION:PT1H
X-Robots-Tag:noindex
X-PUBLISHED-TTL:PT1H
BEGIN:VTIMEZONE
TZID:Europe/Warsaw
BEGIN:DAYLIGHT
TZOFFSETFROM:+0100
TZOFFSETTO:+0200
TZNAME:CEST
DTSTART:20240331T010000
END:DAYLIGHT
BEGIN:STANDARD
TZOFFSETFROM:+0200
TZOFFSETTO:+0100
TZNAME:CET
DTSTART:20241027T010000
END:STANDARD
END:VTIMEZONE
BEGIN:VEVENT
DTSTART;TZID=Europe/Warsaw:20240928T080000
DTEND;TZID=Europe/Warsaw:20240929T170000
DTSTAMP:20260425T173815
CREATED:20240824T155113Z
LAST-MODIFIED:20240922T080213Z
UID:6574-1727510400-1727629200@dworskrzynki.pl
SUMMARY:Miłośnicy i twórcy nalewek domowych spotkają się w Dworze Skrzynki (NALEWKOMANIA)
DESCRIPTION:W dniach 28-29 września w Dworze Skrzynki odbędzie się I Ogólnopolskie Forum Nalewkowe NALEWKOMANIA 2024. Wydarzenie jest organizowane przez Stowarzyszenie Polska Akademia Smaku przy współpracy Instytutu Skrzynki i powiatu poznańskiego. \nJak mówi Jan Babczyszyn – dyrektor Instytutu Skrzynki: Tworzenie nalewki to rękodzieło\, które łączy w sobie precyzję i pasję. To proces wydobywania z natury najcenniejszych esencji i zamknięcia ich w szklanej butelce\, byśmy mogli delektować się wyjątkowymi smakami i aromatami. Każda nalewka to podróż sensoryczna\, wynik długich godzin pracy i starannego doboru składników. Twórcy nalewek\, niczym alchemicy\, łączą różne składniki\, tworząc unikalne kompozycje smakowe\, które pobudzają zmysły i wywołują emocje. To ręcznie wykonane dzieło\, które łączy w sobie tradycję i nowoczesność\, pozwalając nam przenieść się w świat wyobraźni i wspomnień. \nJanusz Łakomiec – Prezes Stowarzyszenia Polska Akademia Smaku dodaje: Zaplanowaliśmy bardzo ciekawy program. Odbędą się liczne prezentacje i panele dyskusyjne\, między innymi:  \n\nSztuka wytwarzania nalewek jako element polskiego dziedzictwa niematerialnego. \nCzy i w jaki sposób można podjąć inicjatywę  wpisania tradycji wytwarzania nalewek w Polsce na listę dziedzictwa niematerialnego krajową i UNESCO ? \nKlejnoty kolekcjonera – prezentacja kolekcji Fundacji im. Adama Łukawskiego.\nSpuścizna Hanny Szymanderskiej – prezentacja zbiorowa w 10 rocznicę śmierci pisarki.\nFestiwale\, konkursy i turnieje – co należy zachować\, a co zmienić.\nŚrodowisko twórców nalewek w Polsce: diagnoza i recepta.\n\nW programie zaplanowano także zwiedzanie Dworu Skrzynki wraz z przewodnikiem. Ponadto uczestnicy spotkania zapoznają się z atrakcjami  powiatu poznańskiego oraz działalnością Instytutu Skrzynki. Partnerem wydarzenia jest Powiat Poznański. \nW galerii fotografii o godzinie 16:00 odbędzie się wernisaż wystawy pośmiertnej fotografii Ewy Kubickiej : SZKLANE DUSZE. \nNa zakończenie pierwszego dnia Forum odbędzie się „Wieczór nalewek” połączony z otwartym konkursem: „Konfrontacje Nalewkowe 2024”. Uczestnicy powalczą o tytuły: Mistrza Nalewkomanii 2024 oraz tytuły trzech Wicemistrzów. \nOsoby zainteresowane wyłącznie konkursem KONFRONTACJE NALEWKOWE 2024\, także zapraszamy.\nKonkurs odbędzie się w godz. 20.00 – 24.00 . Dla uczestników konkursu wstęp wolny; dla obserwatorów i degustatorów wstęp 150 zł. \nSpotkanie dedykowane jest wyłącznie dla osób pełnoletnich. Szczegółowy program i możliwość zapisania się poprzez formularz dostępny w linku poniżej: \n\n\n\nZapraszam do wypełnienia formularza:\n\n\n\n\n\nRejestracja uczestników Ogólnopolskiego Forum Nalewkowego. Dwór Skrzynki: 28-29.09.2024 r.\n\n\n\nIlość miejsc ograniczona – decyduje kolejność zgłoszeń. \nZapraszamy. \nDo pobrania: \nRegulamin.pdf [355 KB] \nKarta zgłoszenia.xdoc [463 KB] \n  \n 
URL:https://dworskrzynki.pl/wydarzenie/milosnicy-i-tworcy-nalewek-domowych-spotkaja-sie-w-dworze-skrzynki/
ATTACH;FMTTYPE=image/jpeg:https://dworskrzynki.pl/wp-content/uploads/2024/08/nalewka-z-funkacja-na-www.jpg
END:VEVENT
BEGIN:VEVENT
DTSTART;TZID=Europe/Warsaw:20240928T160000
DTEND;TZID=Europe/Warsaw:20240928T180000
DTSTAMP:20260425T173815
CREATED:20240924T082906Z
LAST-MODIFIED:20240924T082953Z
UID:6999-1727539200-1727546400@dworskrzynki.pl
SUMMARY:SZKLANE DUSZE –  wystawa fotografii Ewy Kubickiej
DESCRIPTION:W sobotę 28 września o godzinie 16:00  zapraszamy do Galerii Skrzynki na wernisaż wystawy fotografii Ewy Kubickiej.  \nW przyziemiu Dworu Skrzynki w galerii fotografii będzie można obejrzeć 24 prace nieżyjącej już niestety artystki\, która w 2011 roku sfotografowała część szklanej kolekcji Jana Babczyszyna. Wystawa będzie niezwykła\, bo dedykowana pamięci tej wyjątkowej twórczyni. A oto jakie wspomnienia przywołuje u znajomych: \n…”Ewa Kubicka to mistrzyni światła i cienia.  W swoich fotografiach szklanych eksponatów stworzyła niezwykły testament. Każde zdjęcie to intymny portret\, pełen emocji i historii. Szkło w jej obiektywie mimo że statyczne\, to ożywa\, stając się bohaterem tajemniczych opowieści. Stare karafki i kieliszki pod jej wrażliwym spojrzeniem zyskały drugie życie\, stając się symbolami ludzkiej\, niezwykłej kreatywności. Każdy przedmiot był dla Ewy indywidualnością. Fotografowała je delikatnie\, z szacunkiem i intymnością\, tworząc nie zimny zapis\, ale pełne pasji spotkanie dwóch artystycznych stanów:  fotografki i szkła. Ewa miała niezwykłą zdolność dostrzegania piękna w prostocie\, wydobywając z przedmiotów głębię i złożoność. Jej fotografie to zaproszenie do podróży w czasie\, dotknięcia historii poprzez szkło. Szklane eksponaty (z kolekcji JB) sfotografowane przez Ewę\, to hołd złożony materialnemu i niematerialnemu dziedzictwu. To zaproszenie do kontemplacji piękna ukrytego w codziennych przedmiotach. Szklana dokumentacja Ewy to dzieło\, które pozostanie w naszej pamięci\, przypominając\, że nawet najprostszy przedmiot skrywa niezwykłą historię. W oczach Ewy szkło jawiło się czymś więcej niż tylko materiałem. Było ono medium\, które pozwalało jej wyrazić emocje\, refleksje i wizję świata. To wyjątkowa więź między artystką a szkłem sprawiła\, że jej fotografie są tak niezwykłe i poruszające. Ewa widziała w szkle żywy organizm\, ale także symbol przemijania. Szkło dla Ewy było swoistym płótnem dla światła i tak oto zostały odciśnięte na nim SZKLANE …. Pamięci Ewy !  \n/Jan Babczyszyn/ \nEwa zjawiła się na jednej z edycji Europejskiego Festiwalu Smaku niepostrzeżenie. Skromna\, uważna\, z nieodłącznym uśmieszkiem ironii i dobroci. Zza okularów kadrowała świat\, wycinała obrazy i zapisywała je na dnie oka.  \nAbsolwentka Akademii Sztuk Pięknych namiętnie studiowała „Teorię widzenia” Władysława Strzemińskiego. To była podstawa jej sztuki fotografii. Obdarzona wrodzonym smakiem potrafiła fotografować smak. Brzuchowy i duchowy. Pamiętam\, jak wraz z moją żoną Małgosią (aranżacja\, układ scen) fotografowały w Poznaniu karafki do albumu „Alchemia nalewek”. Ewa odeszła nagle i po cichu. Dziś oglądamy jej zdjęcia jak obrazy martwych natur. Ze zdjęć sączy się czułość widzenia. Z tej czułości zrodziły się jedne z najlepszych fotografii duszy nalewek\, zaklętych w karafkach. Zdjęcia są\, album będzie. Z dedykacją dla Ewy \n/Waldemar Sulisz/ \nFotografie przedstawiają najróżniejsze karafki i kieliszki i same w sobie są już dziełem sztuki. Podobnie jest z ich zawartością – domowymi nalewkami\, które często bywają małymi kulinarnymi arcydziełami zawierającymi całą owocową wspaniałość zaklętą w niepowtarzalnej recepturze i pasji twórcy.   \nNieprzypadkowo fotografie Ewy Kubickiej pokazywane będą  właśnie teraz w Skrzynkach. W sobotę rozpoczyna się bowiem w Dworze Skrzynki I Ogólnopolskie Forum Nalewkowe NALEWKOMANIA 2024\, a wystawa będzie jego znakomitym dopełnieniem.  \nZapraszamy zatem do Skrzynek. Wstęp wolny! \nA jeśli ktoś urzeczony „Szklanymi duszami”  będzie chciał posmakować nalewek lub co więcej – zechce stanąć w nalewkowe szranki w konkursie KONFRONTACJE NALEWKOWE 2024\, to garść najważniejszych informacji znajdzie załączonym linku.  \n  \n 
URL:https://dworskrzynki.pl/wydarzenie/szklane-dusze-wystawa-fotografii-ewy-kubickiej/
ATTACH;FMTTYPE=image/jpeg:https://dworskrzynki.pl/wp-content/uploads/2024/09/Wystawa-Szklane-Dusze-Ewa-Kubicka-Fb-i-strona_1.jpg
END:VEVENT
BEGIN:VEVENT
DTSTART;TZID=Europe/Warsaw:20240928T200000
DTEND;TZID=Europe/Warsaw:20240929T000000
DTSTAMP:20260425T173815
CREATED:20240922T085410Z
LAST-MODIFIED:20240923T095335Z
UID:6943-1727553600-1727568000@dworskrzynki.pl
SUMMARY:Konkurs KONFRONTACJE NALEWKOWE 2024.
DESCRIPTION:Zapraszamy wszystkich znawców i twórców nalewek do udziału w KONKURSIE! \nKONFRONTACJE NALEWKOWE 2024.\nGodz. 20.00-24.00\nDla uczestników konkursu – wstęp wolny\nDla pozostałych 150 zł. (PŁATNE NA MIEJSCU PRZED IMPREZĄ) \nKONFRONTACJE NALEWKOWE NALEWKOMANII 2024\nKonkurs nalewek – ogólne zasady. \n\nPodczas Ogólnopolskiego Forum Nalewkowego w Skrzynkach w dniu 28.09.2024 r. odbędzie się konkurs pn. Konfrontacje Nalewkowe Nalewkomanii 2024.\nZgłoszone w konkursie nalewki ubiegać się będą o tytuł „Mistrza Dobrego Smaku  Nalewkomanii 2024”.\nW konkursie oceniane będą wyłącznie nalewki zgromadzonych na wydarzeniu twórców nalewek.\nOceny nalewek dokonają zgromadzeni na Forum twórcy.\nUczestnicy konkursu (twórcy nalewek)  mogą wystawić do oceny maksymalnie 5 swoich nalewek.\nKażdy uczestnik dysponować będzie trzema głosami. \nKażda karta z głosem będzie numerowana i tylko organizator (sekretarz) będzie wiedział\, kto dysponuje głosami o konkretnych numerach. \nBędzie można także zagłosować na swoje nalewki.  \nPo dokonaniu degustacji i oddaniu głosów przez uczestników\,  sekretarz kapituły w obecności „mężów zaufania” dokona podsumowania głosowania i na tej podstawie sporządzi protokół i tym samym wskaże wybór:\n\n\nMistrz Dobrego Smaku Nalewkomanii 2024 (Grand Prix)\nI Wicemistrz Dobrego Smaku Nalewkomanii 2024 (1 miejsce)\nII Wicemistrz Dobrego Smaku Nalewkomanii 2024 (2 miejsce)\nIII Wicemistrz Dobrego Smaku Nalewkomanii 2024 (3 miejsce)\nTrzy równorzędne wyróżnienia  \n\n\nW przypadku uzyskania takiej samej liczby głosów przez kilka nalewek\, organizator zarządzi dla tych nalewek dodatkowe głosowanie. Uczestnicy Forum otrzymają wówczas dodatkowe karty  głosowania (z jednym głosem) i przyznają raz jeszcze swoje punkty jednej najlepszej nalewce. \nWyniki konkursu ogłoszone zostaną w trakcie wieczoru nalewek  w dniu 28.09.2024.\nOrganizatorzy dopuszczają możliwość ufundowania innych nagród i wyróżnień pozaregulaminowych lub specjalnych.\n\nRegulamin.pdf [355 KB] \nKarta zgłoszenia.xdoc [463 KB] \nNALEWKOMANIA program ramowy 28-29.09.2024 \n 
URL:https://dworskrzynki.pl/wydarzenie/konkurs-konfrontacje-nalewkowe-2024/
ATTACH;FMTTYPE=image/jpeg:https://dworskrzynki.pl/wp-content/uploads/2024/09/konkurs-nalewki-www.jpg
END:VEVENT
END:VCALENDAR