BEGIN:VCALENDAR
VERSION:2.0
PRODID:-//Dwór Skrzynki - ECPv6.8.1//NONSGML v1.0//EN
CALSCALE:GREGORIAN
METHOD:PUBLISH
X-ORIGINAL-URL:https://dworskrzynki.pl
X-WR-CALDESC:Wydarzenia dla Dwór Skrzynki
REFRESH-INTERVAL;VALUE=DURATION:PT1H
X-Robots-Tag:noindex
X-PUBLISHED-TTL:PT1H
BEGIN:VTIMEZONE
TZID:Europe/Warsaw
BEGIN:DAYLIGHT
TZOFFSETFROM:+0100
TZOFFSETTO:+0200
TZNAME:CEST
DTSTART:20240331T010000
END:DAYLIGHT
BEGIN:STANDARD
TZOFFSETFROM:+0200
TZOFFSETTO:+0100
TZNAME:CET
DTSTART:20241027T010000
END:STANDARD
END:VTIMEZONE
BEGIN:VEVENT
DTSTART;TZID=Europe/Warsaw:20240921T100000
DTEND;TZID=Europe/Warsaw:20240921T140000
DTSTAMP:20260425T172546
CREATED:20240912T100654Z
LAST-MODIFIED:20240912T100735Z
UID:6810-1726912800-1726927200@dworskrzynki.pl
SUMMARY:Cykl warsztatów grzyboznawczych w Dworze Skrzynki.
DESCRIPTION:Co tak nas fascynuje w grzybobraniu? Ani to rośliny\, ani zwierzęta – czym więc są grzyby?  Gdzie rosną oprócz lasu i dlaczego niektóre „nadają się do zjedzenia” niestety tylko raz?  Grzyby to jak się okazuje wielkie i tajemnicze Trzecie Królestwo. \nZapraszamy na cykl Warsztatów Grzyboznawczych\, które w Dworze Skrzynki  poprowadzi Iza Urbanowicz – grzyboznawca\, niestrudzona edukatorka wiedzy mykologicznej i autorka wielu publikacji popularyzujących grzyby. Od lat pisze o grzybach\, tworzy ich profile w mediach społecznościowych\, tropi i fotografuje. Po prostu dokumentuje życie Fungi\, czyli grzybów – trzeciego po Faunie i Florze królestwa. Udowadnia przede wszystkim\, że grzyby jadalne to nie tylko borowik szlachetny i koźlarz babka. Więcej informacji na profilu: https://www.facebook.com/TrzecieKrolestwo \nWARSZTATY „GRZYBY W KUCHNI” \nW trzy terminy  jesienią tego roku \n21.09.2024 – sobota\, godzina 10.00 – 14.00 \n19.10.2024 – sobota\, godzina 10.00 – 14.00 \n9.11.2024 – sobota\, godzina 10.00 – 14.00 \nW programie spotkań między innymi: \n\nGrzyby\, czyli z czym to się je?\n\n\n\nO tym\, jak żyją grzyby i gdzie ich szukać\, jakie mają wartości odżywcze i do czego się nadają.\n\n\n\n\nJak rozpoznawać gatunki?\n\n\n\nPraca z owocnikami różnych gatunków i atlasami\n\n\n\n\nKtóre są dobre\, a które omijać?\n\n\n\nWażne cechy popularnych gatunków dzikich grzybów\, rozpoznawanie świeżości i jakości owocników\nSposoby na grzyby  –   jak dobierać gatunki do sposobów przetwarzania:\n\nKiszenie\nSuszenie\nMarynowanie\nGotowanie\nSmażenie\nDegustacja\n\n\n\n\n\n\n\nKoszt 120 zł/ osoba  \nw cenie między innymi: grzyby\, przyprawy\, rękawiczki\, serwetki\, naczynia\, sprzęt do gotowania i in. \nZgłoszenia prosimy kierować poprzez stronę: www.dworskrzynki.pl lub na adres: kontakt@instytutskrzynki.pl \n GRZYBOBRANIE z Trzecim Królestwem \nMożna się też wybrać się do lasu z Izą Urbanowicz – prawdziwą\, dyplomowana przewodniczką po Trzecim Królestwie! \nW dniu 20 października   od 9.00 – 15.00 odbędzie się grzybobranie i spacer mykologiczny do tajemniczego miejsca w wielkopolskim lesie. Zbiory sprawdzone zostaną przez Izę Urbanowicz – specjalistę grzyboznawcę.  Na koniec w chacie grillowej Dworu Skrzynki odbędzie ognisko i wspólna biesiada Tu wybierzemy króla grzybobrania i pokażemy najciekawsze okazy. \nIza Urbanowicz – grzyboznawca\, fanka grzybów dokumentująca życie Fungi\, czyli grzybów – trzeciego po Faunie i Florze królestwa. Twórczyni profili\, tekstów\, filmów i fotografii o tematyce mykologicznej. Dziennikarka i autorka wielu publikacji popularyzujących grzyby. Edukatorka z misją rozpowszechniania wiedzy o Trzecim Królestwie. Więcej informacji na profilu: https://www.facebook.com/TrzecieKrolestwo \nMiejsce grzybobrania w dniu 20 października wskażemy po zgłoszeniu. Dojazd do lasu i do Dworu Skrzynki (gmina Stęszew\, pow. poznański)  we własnym zakresie. \nKoszt 50 zł/ osoba \nDzieci do lat 10 – 25zł/osoba \nZgłoszenia prosimy kierować poprzez stronę: www.dworskrzynki.pl lub na adres: kontakt@instytutskrzynki.pl \nLiczba miejsc ograniczona – decyduje kolejność zgłoszenia. \nZAPRASZAMY \n  \n 
URL:https://dworskrzynki.pl/wydarzenie/cykl-warsztatow-grzyboznawczych-w-dworze-skrzynki/
ATTACH;FMTTYPE=image/jpeg:https://dworskrzynki.pl/wp-content/uploads/2024/09/warsztaty-grzyby-1.jpg
END:VEVENT
END:VCALENDAR