BEGIN:VCALENDAR
VERSION:2.0
PRODID:-//Dwór Skrzynki - ECPv6.8.1//NONSGML v1.0//EN
CALSCALE:GREGORIAN
METHOD:PUBLISH
X-WR-CALNAME:Dwór Skrzynki
X-ORIGINAL-URL:https://dworskrzynki.pl
X-WR-CALDESC:Wydarzenia dla Dwór Skrzynki
REFRESH-INTERVAL;VALUE=DURATION:PT1H
X-Robots-Tag:noindex
X-PUBLISHED-TTL:PT1H
BEGIN:VTIMEZONE
TZID:Europe/Warsaw
BEGIN:DAYLIGHT
TZOFFSETFROM:+0100
TZOFFSETTO:+0200
TZNAME:CEST
DTSTART:20240331T010000
END:DAYLIGHT
BEGIN:STANDARD
TZOFFSETFROM:+0200
TZOFFSETTO:+0100
TZNAME:CET
DTSTART:20241027T010000
END:STANDARD
END:VTIMEZONE
BEGIN:VEVENT
DTSTART;TZID=Europe/Warsaw:20240830T180000
DTEND;TZID=Europe/Warsaw:20240830T220000
DTSTAMP:20260425T173642
CREATED:20240804T144051Z
LAST-MODIFIED:20240815T201659Z
UID:6318-1725040800-1725055200@dworskrzynki.pl
SUMMARY:Kolacja charytatywna
DESCRIPTION:Szanowni Państwo\, \nEwa i Piotr Michalscy z Puszczykowa – osoby o wielkim sercu i wrażliwości na tradycje kulinarne naszego kraju i Wielkopolski w maju tego roku w pożarze stracili syna Tymona – ojca trzech małych córeczek. \nSpłonął też doszczętnie ich dom. Pozostali bez dachu nad głową. Oboje są na emeryturze\, której wysokość nie jest w stanie pokryć kosztów odbudowy. Nie dysponują też oszczędnościami na podjęcie prac budowlano – remontowych na pozostałości uszkodzonego budynku. Pisaliśmy już o uruchomionej akcji pomocy na platformie zbiorka.pl\, w której udało się zebrać ponad 200.000 zł. To ciągle kropla w morzu potrzeb. \nFundacja Instytutu Skrzynki pragnie wesprzeć Ewę i Piotra\npoprzez organizację charytatywnej kolacji\,\nktóra odbędzie się\nw restauracji Dworu Skrzynki w dniu 30 sierpnia 2024 o godz. 18.00.\nKolację przygotują wybitni szefowie kuchni z kilku najlepszych wielkopolskich restauracji : \nDawid Łagowski – Restauracja Hotelu Ilonn w Poznaniu \nPaweł Kubera – Restauracja Hyćka w Poznaniu \nDawid Ankowski – Restauracja Fromażeria w Poznaniu \nPaweł Ludek – restauracja w Olandii w Prusimiu \nAgnieszka Jaworska – Cukiernia Beza w Poznaniu \nKajetan Świokła – restauracja Dworu Skrzynki w Skrzynkach \nWydarzenie poprowadzą : Katarzyna Bosacka – dziennikarka i Jan Babczyszyn – Dyrektor Instytutu Skrzynki \nW trakcie kolacji odbędzie też licytacja książek i butelek z dedykacjami\, między innymi Katarzyny Bosackiej\, Roberta Makłowicza i Ewy Wachowicz \nGośćmi honorowymi kolacji będą Ewa i Piotr Michalscy. \nBilety w cenie 500 złotych od osoby można zamawiać e-mailowo: jan.babczyszyn@instytutskrzynki.pl. \nMożliwe jest też bezpośrednie wsparcie finansowe poprzez wpłatę na rachunek : Fundacja Instytutu Skrzynki\, BNP PARIBAS:  08 1600 1404 1732 6037 6000 0004 z dopiskiem wsparcie dla E.P. Michalskich \nLiczymy bardzo na Państwo hojność.
URL:https://dworskrzynki.pl/wydarzenie/kolacja-charytatywna/
ATTACH;FMTTYPE=image/jpeg:https://dworskrzynki.pl/wp-content/uploads/2024/08/Grafika-FB-Kolacja-charytatywna-wer-3.jpg
END:VEVENT
BEGIN:VEVENT
DTSTART;TZID=Europe/Warsaw:20240830T203000
DTEND;TZID=Europe/Warsaw:20240830T223000
DTSTAMP:20260425T173642
CREATED:20240828T133642Z
LAST-MODIFIED:20240828T133642Z
UID:6610-1725049800-1725057000@dworskrzynki.pl
SUMMARY:REJS – kino letnie w Dworze Skrzynki
DESCRIPTION:Dwór Skrzynki zaprasza na piątkowy seans kina letniego: film REJS z 1970 roku to debiut fabularny Marka Piwowskiego. Stanisław Tym\, wakacyjny klimat i groteskowa komedia w stylu paradokumentu nadal mają swoich wielbicieli. Niezależnie\, czy będziecie oglądać go po raz pierwszy\, czy dwudziesty piąty – serdecznie zapraszamy w najbliższy piątek 30.08.2024 r o godz. 20.30 do parku przy Dworze Skrzynki (wstęp wolny). \n  \nREJS – kino letnie w Dworze Skrzynki \n30.08.2024 r. godz. 20.30 \nPl. Parkowy 1 \n62-060 Skrzynki \nwww.dworskrzynki.pl
URL:https://dworskrzynki.pl/wydarzenie/rejs-kino-letnie-w-dworze-skrzynki/
ATTACH;FMTTYPE=image/png:https://dworskrzynki.pl/wp-content/uploads/2024/08/WWW.zip-rejs.png
END:VEVENT
END:VCALENDAR