BEGIN:VCALENDAR
VERSION:2.0
PRODID:-//Dwór Skrzynki - ECPv6.8.1//NONSGML v1.0//EN
CALSCALE:GREGORIAN
METHOD:PUBLISH
X-WR-CALNAME:Dwór Skrzynki
X-ORIGINAL-URL:https://dworskrzynki.pl
X-WR-CALDESC:Wydarzenia dla Dwór Skrzynki
REFRESH-INTERVAL;VALUE=DURATION:PT1H
X-Robots-Tag:noindex
X-PUBLISHED-TTL:PT1H
BEGIN:VTIMEZONE
TZID:Europe/Warsaw
BEGIN:DAYLIGHT
TZOFFSETFROM:+0100
TZOFFSETTO:+0200
TZNAME:CEST
DTSTART:20240331T010000
END:DAYLIGHT
BEGIN:STANDARD
TZOFFSETFROM:+0200
TZOFFSETTO:+0100
TZNAME:CET
DTSTART:20241027T010000
END:STANDARD
END:VTIMEZONE
BEGIN:VEVENT
DTSTART;TZID=Europe/Warsaw:20240824T190000
DTEND;TZID=Europe/Warsaw:20240824T210000
DTSTAMP:20260426T032148
CREATED:20240809T102626Z
LAST-MODIFIED:20240809T113720Z
UID:6174-1724526000-1724533200@dworskrzynki.pl
SUMMARY:Koncert Katarzyny Tapek w Dworze Skrzynki.
DESCRIPTION:„Na pierwszy znak”\, „Miłość Ci wszystko wybaczy”\, „Ah jak przyjemnie” – kto choć raz nie usłyszał tych piosenek? Są absolutnym kanonem polskiej piosenki – a już 24 sierpnia o 19:00 usłyszymy je w wykonaniu Katarzyny Tapek. Lata 20\, lata 30 – to koncert\, który z pewnością będzie dla wielu muzyczną ucztą! \nTo znakomita aktorka i wokalistka scen muzycznych dobrze znana widzom Teatru Muzycznego w Poznaniu. Bywalców Dworu Skrzynki urzekła choćby jako jedna z odtwórczyń projektu „Śpiewanki Wielkopolskie” i przede wszystkim\, gdy wystąpiła w głównej roli w komedii muzycznej „Apetyt na czereśnie”. \nArtystka rozpoczęła edukację muzyczną w wieku 12 lat w Państwowej Szkole Muzycznej w Olsztynie w klasie wiolonczeli\, a od 2007 roku kontynuowała naukę w klasie śpiewu solowego. W tym okresie związana była z Olsztyńską Grupą Metro. We współpracy ze Studio Buffo zagrała główne role w młodzieżowych wykonaniach musicalu Romeo i Julia oraz Metro. Ukończyła Akademię Muzyczną im. S. Moniuszki w Gdańsku na wydziale wokalno-aktorskim\, specjalność musical. Wzięła udział w wielu spektaklach dramatycznych: (Nord-Ost\, Płatonow\, Wszystkie jesteśmy Ofeliami\, Bloczek\, Moralność Pani Dulskiej\, Zabawa w dziobanego\, Po deszczu) oraz koncertach musicalowych w Akademii Muzycznej. W dyplomowym musicalu Godspell wykonała rolę Joanny. W jej dorobku znajdują się główne role w spektaklach Balladyna reżyserii T. Podsiadłego\, w polskiej prapremierze musicalu Love Story w Nowym Teatrze im. Witkacego w Słupsku oraz w spektaklu Extravaganza w Teatrze Polskim w Poznaniu. Od sierpnia 2013 roku związana z zespołem Teatru Muzycznego w Poznaniu\, gdzie zagrała w takich spektaklach jak Człowiek z la Manchy\, Orfeusz w Piekle\, Hello\, Dolly!\, Księżniczka czardasza\, Nine\, Evita\, Footloose\, Jekyll and Hyde\, Nie ma jak lata 20.30. Obecnie można zobaczyć ją między innymi w musicalach Zakonnica w przebraniu (siostra Maria Robert)\, Madagaskar – musicalowa przygoda (Król Julian)\, Pippin (Katarzyna)\, Virtuoso\, (Helene Bibesco)\, Kombinat (Lala)\, Irena (Jaga)\, Piękna i Bestia (Babette) i Deszczowa Piosenka (Dora Bailey). Jest jedną z odtwórczyń projektu Śpiewanki Wielkopolskie. Od kwietniu 2024 roku zachwyca główną rolą żeńską w komedii muzycznej Apetyt na czereśnie. \n24 sierpnia w Dworze Skrzynki na pianinie towarzyszyć jej będzie Radosław Mateja. \nBilety w cenie 25 zł do nabycia on-line\nZapraszamy! \n 
URL:https://dworskrzynki.pl/wydarzenie/koncert-katarzyny-tapek-w-dworze-skrzynki/
ATTACH;FMTTYPE=image/jpeg:https://dworskrzynki.pl/wp-content/uploads/2024/07/tapek-poprawiona.jpg
END:VEVENT
END:VCALENDAR