BEGIN:VCALENDAR
VERSION:2.0
PRODID:-//Dwór Skrzynki - ECPv6.8.1//NONSGML v1.0//EN
CALSCALE:GREGORIAN
METHOD:PUBLISH
X-WR-CALNAME:Dwór Skrzynki
X-ORIGINAL-URL:https://dworskrzynki.pl
X-WR-CALDESC:Wydarzenia dla Dwór Skrzynki
REFRESH-INTERVAL;VALUE=DURATION:PT1H
X-Robots-Tag:noindex
X-PUBLISHED-TTL:PT1H
BEGIN:VTIMEZONE
TZID:Europe/Warsaw
BEGIN:DAYLIGHT
TZOFFSETFROM:+0100
TZOFFSETTO:+0200
TZNAME:CEST
DTSTART:20240331T010000
END:DAYLIGHT
BEGIN:STANDARD
TZOFFSETFROM:+0200
TZOFFSETTO:+0100
TZNAME:CET
DTSTART:20241027T010000
END:STANDARD
END:VTIMEZONE
BEGIN:VEVENT
DTSTART;TZID=Europe/Warsaw:20240823T203000
DTEND;TZID=Europe/Warsaw:20240823T223000
DTSTAMP:20260426T051150
CREATED:20240819T084504Z
LAST-MODIFIED:20240918T113405Z
UID:6489-1724445000-1724452200@dworskrzynki.pl
SUMMARY:Chłopaki nie płaczą – Kino Letnie w Dworze Skrzynki (wstęp wolny)
DESCRIPTION:Czy wiecie\, że osoby urodzone w 2000 roku mają już 24 lata? Podobnie jak komedia sensacyjna „Chłopaki nie płaczą” Olafa Lubaszenki. Przyznajmy\, że historia „dobrze się zestarzała”: nadal bawi historia skrzypka\, który stanął na drodze mafii. \nZapraszamy na seans Kina Letniego w Dworze Skrzynki w najbliższy piątek\, 23 sierpnia o godz. 20.30 (start po zmroku)\, wstęp wolny. Będzie to okazja\, by sprawdzić\, czy chłopaki faktycznie nie płaczą i przypomnieć sobie kultowe role m.in. Cezarego Pazury\, Wojciecha Klaty\, Macieja Stuhra\, Bohdana Łazuki\, czy Michała Milowicza. \n  \nCHŁOPAKI NIE PŁACZĄ – Kino Letnie w Dworze Skrzynki \nPiątek. 23.08.2024 r. g. 20.30 (wstęp wolny) \nDwór Skrzynki \nPl. Parkowy 1 \n62-060 Skrzynki\, gm. Stęszew\, powiat poznański
URL:https://dworskrzynki.pl/wydarzenie/chlopaki-nie-placza-kino-letnie-w-dworze-skrzynki-wstep-wolny/
CATEGORIES:Nadchodzący plener
ATTACH;FMTTYPE=image/png:https://dworskrzynki.pl/wp-content/uploads/2024/08/WWW.zip-www.png
END:VEVENT
END:VCALENDAR